{"text_format":"1","workbook":"xlsx","n_sheets":6,"sheets":["請求書","請求書2","請求書3","(10％用)入力フォーム","工事番号内訳明細書","Sheet1"],"not_rendered":{"charts":0,"images":9,"macros":1,"external_links":0,"defined_names":6,"comments":0,"pivot_tables":0},"unopened":[],"bounds":{"document_bytes":16777216,"sheet_cells":100000,"rows_first":2000,"rows_last":500,"rows_between":2000,"halvings":0,"cell_chars":16384,"cell_head_chars":4096},"cells_cut":0,"cells_raw":0,"read":"whole","date_system":"1900"}

{"sheet":"請求書","index":0,"n_rows":86,"n_cols":74,"rows_kept":86,"cut":false,"hidden":true,"merged":[[31,8,39,33],[42,33,43,34],[42,35,43,36],[42,15,43,16],[42,17,43,18],[42,19,43,20],[42,21,43,22],[42,23,43,24],[42,25,43,26],[42,27,43,28],[42,29,43,30],[42,31,43,32],[85,0,86,2],[85,3,86,4],[85,40,85,48],[85,49,85,57],[85,67,85,75],[86,5,86,12],[86,13,86,20],[86,21,86,28],[86,31,86,39],[86,40,86,48],[86,49,86,57],[86,58,86,66],[86,67,86,75],[85,5,85,28],[85,29,86,30],[85,31,85,39],[85,58,85,66],[80,1,80,13],[80,14,80,20],[80,22,80,40],[80,41,83,42],[80,43,83,61],[80,62,83,62],[81,1,81,13],[81,14,81,20],[81,22,81,40],[82,1,82,13],[82,14,82,20],[82,22,82,40],[83,1,83,13],[83,14,83,20],[83,22,83,40],[68,0,69,40],[71,0,74,13],[71,14,74,17],[71,18,74,46],[76,0,79,21],[76,22,79,40],[76,41,79,62],[59,37,61,53],[62,37,62,53],[64,0,66,75],[52,75,62,75],[53,0,53,5],[53,6,53,30],[53,31,53,36],[53,37,53,53],[54,0,54,5],[54,6,54,30],[54,31,54,36],[54,37,54,53],[55,0,55,5],[52,0,52,5],[52,6,52,30],[52,31,52,36],[52,37,52,53],[52,54,62,55],[52,56,62,74],[55,6,55,30],[55,31,55,36],[55,37,55,53],[56,37,58,53],[56,0,58,1],[56,2,58,14],[56,15,58,16],[56,17,58,36],[59,17,61,36],[59,0,61,1],[59,2,61,14],[59,15,61,16],[62,0,62,1],[62,2,62,14],[62,15,62,16],[62,17,62,36],[22,39,28,46],[22,47,28,47],[22,48,28,50],[22,51,28,53],[45,0,46,36],[45,41,46,75],[47,0,51,5],[47,6,51,30],[47,31,51,36],[47,37,51,53],[47,54,51,75],[29,48,35,75],[36,38,43,38],[36,39,43,46],[36,47,43,47],[36,48,43,75],[27,8,30,33],[27,34,41,36],[40,8,41,33],[42,8,43,10],[42,11,43,12],[42,13,43,14],[14,0,17,69],[18,41,21,75],[22,0,26,12],[22,13,26,16],[22,17,26,20],[22,21,26,24],[22,25,26,28],[22,29,26,32],[22,70,28,72],[22,73,28,75],[27,0,43,0],[27,1,43,6],[27,7,43,7],[29,38,35,38],[29,39,35,46],[29,47,35,47],[22,54,28,55],[22,56,28,58],[22,59,28,61],[22,62,28,64],[22,65,28,66],[22,67,28,69],[22,33,26,36],[22,38,28,38],[0,0,4,75],[6,23,9,29],[6,30,9,33],[6,34,9,38],[6,39,9,42],[6,43,9,47],[6,48,9,51],[10,0,13,26],[11,50,13,69]]}
["請 求 書　(経 理 控)"]
[]
[]
[]
[]
[]
[null,null,null,null,null,null,null,null,null,null,null,null,null,null,null,null,null,null,null,null,null,null,null,{"$f":"IF('(10％用)入力フォーム'!X7:AD10=\"\",\"\",'(10％用)入力フォーム'!X7:AD10)","v":""},null,null,null,null,null,null,"年",null,null,null,{"$f":"IF('(10％用)入力フォーム'!AI7:AM10=\"\",\"\",'(10％用)入力フォーム'!AI7:AM10)","v":""},null,null,null,null,"月",null,null,null,{"$f":"IF('(10％用)入力フォーム'!AR7:AV10=\"\",\"\",'(10％用)入力フォーム'!AR7:AV10)","v":""},null,null,null,null,"日"]
[]
[]
[]
["松浦電機システム株式会社　御中"]
[]
[]
[]
["下記の通り、請求致します。"]
[]
[]
[]
[null,null,null,null,null,null,null,null,null,null,null,null,null,null,null,null,null,null,null,null,null,null,null,null,null,null,null,null,null,null,null,null,null,null,null,null,null,null,null,null,null,"工事番号内訳明細を添付される場合、チェックを入れて下さい。"]
[]
[]
[]
["取 引 先 コ ー ド",null,null,null,null,null,null,null,null,null,null,null,null,0,null,null,null,{"$f":"IF('(10％用)入力フォーム'!R23:U27=\"\",\"\",'(10％用)入力フォーム'!R23:U27)","v":""},null,null,null,{"$f":"IF('(10％用)入力フォーム'!V23:Y27=\"\",\"\",'(10％用)入力フォーム'!V23:Y27)","v":""},null,null,null,{"$f":"IF('(10％用)入力フォーム'!Z23:AC27=\"\",\"\",'(10％用)入力フォーム'!Z23:AC27)","v":""},null,null,null,{"$f":"IF('(10％用)入力フォーム'!AD23:AG27=\"\",\"\",'(10％用)入力フォーム'!AD23:AG27)","v":""},null,null,null,{"$f":"IF('(10％用)入力フォーム'!AH23:AK27=\"\",\"\",'(10％用)入力フォーム'!AH23:AK27)","v":""},null,null,null,null,null,"工事番号",null,null,null,null,null,null,null,null,{"$f":"IF('(10％用)入力フォーム'!AW23:AY29=\"\",\"\",'(10％用)入力フォーム'!AW23:AY29)","v":""},null,null,{"$f":"IF('(10％用)入力フォーム'!AZ23:BB29=\"\",\"\",'(10％用)入力フォーム'!AZ23:BB29)","v":""},null,null,"-",null,{"$f":"IF('(10％用)入力フォーム'!BE23:BG29=\"\",\"\",'(10％用)入力フォーム'!BE23:BG29)","v":""},null,null,{"$f":"IF('(10％用)入力フォーム'!BH23:BJ29=\"\",\"\",'(10％用)入力フォーム'!BH23:BJ29)","v":""},null,null,{"$f":"IF('(10％用)入力フォーム'!BK23:BM29=\"\",\"\",'(10％用)入力フォーム'!BK23:BM29)","v":""},null,null,"-",null,{"$f":"IF('(10％用)入力フォーム'!BP23:BR29=\"\",\"\",'(10％用)入力フォーム'!BP23:BR29)","v":""},null,null,{"$f":"IF('(10％用)入力フォーム'!BS23:BU29=\"\",\"\",'(10％用)入力フォーム'!BS23:BU29)","v":""},null,null,{"$f":"IF('(10％用)入力フォーム'!BV23:BX29=\"\",\"\",'(10％用)入力フォーム'!BV23:BX29)","v":""}]
[]
[]
[]
[]
[null,"会社名\n住　所\n電　話\nＦＡＸ\n登録番号",null,null,null,null,null,null,{"$f":"IF('(10％用)入力フォーム'!I28:AH31=\"\",\"\",'(10％用)入力フォーム'!I28:AH31)","v":""},null,null,null,null,null,null,null,null,null,null,null,null,null,null,null,null,null,null,null,null,null,null,null,null,null,"印"]
[]
[null,null,null,null,null,null,null,null,null,null,null,null,null,null,null,null,null,null,null,null,null,null,null,null,null,null,null,null,null,null,null,null,null,null,null,null,null,null,null,"現 場 名",null,null,null,null,null,null,null,null,{"$f":"IF('(10％用)入力フォーム'!AW30:BX36=\"\",\"\",'(10％用)入力フォーム'!AW30:BX36)","v":""}]
[]
[null,null,null,null,null,null,null,null,{"$f":"IF('(10％用)入力フォーム'!I32:AH40=\"\",\"\",'(10％用)入力フォーム'!I32:AH40)","v":""}]
[]
[]
[]
[]
[null,null,null,null,null,null,null,null,null,null,null,null,null,null,null,null,null,null,null,null,null,null,null,null,null,null,null,null,null,null,null,null,null,null,null,null,null,null,null,"工 事 名",null,null,null,null,null,null,null,null,{"$f":"IF('(10％用)入力フォーム'!AW37:BX44=\"\",\"\",'(10％用)入力フォーム'!AW37:BX44)","v":""}]
[]
[]
[]
[null,null,null,null,null,null,null,null,{"$f":"IF('(10％用)入力フォーム'!I41:AH42=\"\",\"\",'(10％用)入力フォーム'!I41:AH42)","v":""}]
[null,null,null,null,null,null,null,null,"T",null,null,{"$f":"IF('(10％用)入力フォーム'!L42:M44=\"\",\"\",'(10％用)入力フォーム'!L42:M44)","v":""},null,{"$f":"IF('(10％用)入力フォーム'!N42:O44=\"\",\"\",'(10％用)入力フォーム'!N42:O44)","v":""},null,{"$f":"IF('(10％用)入力フォーム'!P42:Q44=\"\",\"\",'(10％用)入力フォーム'!P42:Q44)","v":""},null,{"$f":"IF('(10％用)入力フォーム'!R42:S44=\"\",\"\",'(10％用)入力フォーム'!R42:S44)","v":""},null,{"$f":"IF('(10％用)入力フォーム'!T42:U44=\"\",\"\",'(10％用)入力フォーム'!T42:U44)","v":""},null,{"$f":"IF('(10％用)入力フォーム'!V42:W44=\"\",\"\",'(10％用)入力フォーム'!V42:W44)","v":""},null,{"$f":"IF('(10％用)入力フォーム'!X42:Y44=\"\",\"\",'(10％用)入力フォーム'!X42:Y44)","v":""},null,{"$f":"IF('(10％用)入力フォーム'!Z42:AA44=\"\",\"\",'(10％用)入力フォーム'!Z42:AA44)","v":""},null,{"$f":"IF('(10％用)入力フォーム'!AB42:AC44=\"\",\"\",'(10％用)入力フォーム'!AB42:AC44)","v":""},null,{"$f":"IF('(10％用)入力フォーム'!AD42:AE44=\"\",\"\",'(10％用)入力フォーム'!AD42:AE44)","v":""},null,{"$f":"IF('(10％用)入力フォーム'!AF42:AG44=\"\",\"\",'(10％用)入力フォーム'!AF42:AG44)","v":""},null,{"$f":"IF('(10％用)入力フォーム'!AH42:AI44=\"\",\"\",'(10％用)入力フォーム'!AH42:AI44)","v":""},null,{"$f":"IF('(10％用)入力フォーム'!AJ42:AK44=\"\",\"\",'(10％用)入力フォーム'!AJ42:AK44)","v":""}]
[null,null,null,null,null,null,null,null,{"$f":"IF('(10％用)入力フォーム'!I43:K44=\"\",\"\",'(10％用)入力フォーム'!I43:K44)","v":"T"},null,null,{"$f":"IF('(10％用)入力フォーム'!L43:M44=\"\",\"\",'(10％用)入力フォーム'!L43:M44)","v":""},null,{"$f":"IF('(10％用)入力フォーム'!N43:O44=\"\",\"\",'(10％用)入力フォーム'!N43:O44)","v":""},null,{"$f":"IF('(10％用)入力フォーム'!P43:Q44=\"\",\"\",'(10％用)入力フォーム'!P43:Q44)","v":""},null,{"$f":"IF('(10％用)入力フォーム'!R43:S44=\"\",\"\",'(10％用)入力フォーム'!R43:S44)","v":""},null,{"$f":"IF('(10％用)入力フォーム'!T43:U44=\"\",\"\",'(10％用)入力フォーム'!T43:U44)","v":""},null,{"$f":"IF('(10％用)入力フォーム'!V43:W44=\"\",\"\",'(10％用)入力フォーム'!V43:W44)","v":""},null,{"$f":"IF('(10％用)入力フォーム'!X43:Y44=\"\",\"\",'(10％用)入力フォーム'!X43:Y44)","v":""},null,{"$f":"IF('(10％用)入力フォーム'!Z43:AA44=\"\",\"\",'(10％用)入力フォーム'!Z43:AA44)","v":""},null,{"$f":"IF('(10％用)入力フォーム'!AB43:AC44=\"\",\"\",'(10％用)入力フォーム'!AB43:AC44)","v":""},null,{"$f":"IF('(10％用)入力フォーム'!AD43:AE44=\"\",\"\",'(10％用)入力フォーム'!AD43:AE44)","v":""},null,{"$f":"IF('(10％用)入力フォーム'!AF43:AG44=\"\",\"\",'(10％用)入力フォーム'!AF43:AG44)","v":""},null,{"$f":"IF('(10％用)入力フォーム'!AH43:AI44=\"\",\"\",'(10％用)入力フォーム'!AH43:AI44)","v":""},null,{"$f":"IF('(10％用)入力フォーム'!AJ43:AK44=\"\",\"\",'(10％用)入力フォーム'!AJ43:AK44)","v":""}]
[]
[]
["（請求内訳）",null,null,null,null,null,null,null,null,null,null,null,null,null,null,null,null,null,null,null,null,null,null,null,null,null,null,null,null,null,null,null,null,null,null,null,null,null,null,null,null,"品名内訳明細を添付される場合、チェックを入れて下さい。"]
[]
["納入日",null,null,null,null,null,"品　　　　　　名",null,null,null,null,null,null,null,null,null,null,null,null,null,null,null,null,null,null,null,null,null,null,null,null,"数量",null,null,null,null,null,"金　　　　額",null,null,null,null,null,null,null,null,null,null,null,null,null,null,null,null,"請求時の注意事項"]
[]
[]
[]
[]
[{"$f":"IF('(10％用)入力フォーム'!A53:F53=\"\",\"\",'(10％用)入力フォーム'!A53:F53)","v":""},null,null,null,null,null,{"$f":"IF('(10％用)入力フォーム'!G53:AE53=\"\",\"\",'(10％用)入力フォーム'!G53:AE53)","v":""},null,null,null,null,null,null,null,null,null,null,null,null,null,null,null,null,null,null,null,null,null,null,null,null,{"$f":"IF('(10％用)入力フォーム'!AF53:AK53=\"\",\"\",'(10％用)入力フォーム'!AF53:AK53)","v":""},null,null,null,null,null,{"$f":"IF('(10％用)入力フォーム'!AL53:BB53=\"\",\"\",'(10％用)入力フォーム'!AL53:BB53)","v":""},null,null,null,null,null,null,null,null,null,null,null,null,null,null,null,null,"1.\n\n\n\n2.\n\n\n3.\n\n\n\n\n4.\n\n\n\n\n5.\n\n\n",null,"この請求書は3枚1組です。\n1枚目経理控に貴社押印後、\nご提出下さい。\n\n会社名欄は、ゴム印を使用する際は入力不要です。\n\n工事番号内訳明細がある場合は、上段『工事番号』上の\nチェックボックスに必ずチェックを入れて下さい。\n\n品名内訳明細がある場合は、\n中段『(請求内訳)』横のチェックボックスにチェックを入れて\n下さい。\n\n消費税の端数調整が必要な場合は、中段『消費税(10)％』横のチェックボックスにチェックを入れて下さい。"]
[{"$f":"IF('(10％用)入力フォーム'!A54:F54=\"\",\"\",'(10％用)入力フォーム'!A54:F54)","v":""},null,null,null,null,null,{"$f":"IF('(10％用)入力フォーム'!G54:AE54=\"\",\"\",'(10％用)入力フォーム'!G54:AE54)","v":""},null,null,null,null,null,null,null,null,null,null,null,null,null,null,null,null,null,null,null,null,null,null,null,null,{"$f":"IF('(10％用)入力フォーム'!AF54:AK54=\"\",\"\",'(10％用)入力フォーム'!AF54:AK54)","v":""},null,null,null,null,null,{"$f":"IF('(10％用)入力フォーム'!AL54:BB54=\"\",\"\",'(10％用)入力フォーム'!AL54:BB54)","v":""}]
[{"$f":"IF('(10％用)入力フォーム'!A55:F55=\"\",\"\",'(10％用)入力フォーム'!A55:F55)","v":""},null,null,null,null,null,{"$f":"IF('(10％用)入力フォーム'!G55:AE55=\"\",\"\",'(10％用)入力フォーム'!G55:AE55)","v":""},null,null,null,null,null,null,null,null,null,null,null,null,null,null,null,null,null,null,null,null,null,null,null,null,{"$f":"IF('(10％用)入力フォーム'!AF55:AK55=\"\",\"\",'(10％用)入力フォーム'!AF55:AK55)","v":""},null,null,null,null,null,{"$f":"IF('(10％用)入力フォーム'!AL55:BB55=\"\",\"\",'(10％用)入力フォーム'!AL55:BB55)","v":""}]
[{"$f":"IF('(10％用)入力フォーム'!A56:F56=\"\",\"\",'(10％用)入力フォーム'!A56:F56)","v":""},null,null,null,null,null,{"$f":"IF('(10％用)入力フォーム'!G56:AE56=\"\",\"\",'(10％用)入力フォーム'!G56:AE56)","v":""},null,null,null,null,null,null,null,null,null,null,null,null,null,null,null,null,null,null,null,null,null,null,null,null,{"$f":"IF('(10％用)入力フォーム'!AF56:AK56=\"\",\"\",'(10％用)入力フォーム'!AF56:AK56)","v":""},null,null,null,null,null,{"$f":"IF('(10％用)入力フォーム'!AL56:BB56=\"\",\"\",'(10％用)入力フォーム'!AL56:BB56)","v":""}]
[null,null,"小計金額 (税抜)",null,null,null,null,null,null,null,null,null,null,null,null,null,null,null,null,null,null,null,null,null,null,null,null,null,null,null,null,null,null,null,null,null,null,{"$f":"IF('(10％用)入力フォーム'!AL57:BB59=\"\",\"\",'(10％用)入力フォーム'!AL57:BB59)","v":""}]
[]
[]
[null,null,"消費税 (10%)",null,null,null,null,null,null,null,null,null,null,null,null,null,null,null,null,null,null,null,null,null,null,null,null,null,null,null,null,null,null,null,null,null,null,{"$f":"IF('(10％用)入力フォーム'!AL60:BB62=\"\",\"\",'(10％用)入力フォーム'!AL60:BB62)","v":""}]
[]
[]
[null,null,"合 計 金 額",null,null,null,null,null,null,null,null,null,null,null,null,null,null,null,null,null,null,null,null,null,null,null,null,null,null,null,null,null,null,null,null,null,null,{"$f":"IF('(10％用)入力フォーム'!AL63:BB63=\"\",\"\",'(10％用)入力フォーム'!AL63:BB63)","v":""}]
[]
["上記の請求に対して、注文書が発行されている場合は、下記に注文書番号と金額の記載をお願い致します。"]
[]
[]
[]
["（出来高請求書）"]
[]
[]
["注文書No.",null,null,null,null,null,null,null,null,null,null,null,null,null,"No.",null,null,null,{"$f":"IF('(10％用)入力フォーム'!S72:AU75=\"\",\"\",'(10％用)入力フォーム'!S72:AU75)","v":""}]
[]
[]
[]
[]
["項　　　　目",null,null,null,null,null,null,null,null,null,null,null,null,null,null,null,null,null,null,null,null,null,"金　　　額",null,null,null,null,null,null,null,null,null,null,null,null,null,null,null,null,null,null,"請求時の注意事項"]
[]
[]
[]
[null,"契約金額",null,null,null,null,null,null,null,null,null,null,null,null,"(税抜)",null,null,null,null,null,null,null,{"$f":"IF('(10％用)入力フォーム'!W81:AO81=\"\",\"\",'(10％用)入力フォーム'!W81:AO81)","v":""},null,null,null,null,null,null,null,null,null,null,null,null,null,null,null,null,null,null,"\n1.\n\n\n2.\n\n\n3.",null,"\n注文書No.が不明な場合、\n担当者へご確認下さい。\n\n請求書は注文書No.ごとに\n作成して下さい。\n\n税抜金額で入力して下さい。\n"]
[null,"請求済",null,null,null,null,null,null,null,null,null,null,null,null,"(税抜)",null,null,null,null,null,null,null,{"$f":"IF('(10％用)入力フォーム'!W82:AO82=\"\",\"\",'(10％用)入力フォーム'!W82:AO82)","v":""}]
[null,"今回請求額",null,null,null,null,null,null,null,null,null,null,null,null,"(税抜)",null,null,null,null,null,null,null,{"$f":"IF('(10％用)入力フォーム'!W83:AO83=\"\",\"\",'(10％用)入力フォーム'!W83:AO83)","v":""}]
[null,"残高",null,null,null,null,null,null,null,null,null,null,null,null,"(税抜)",null,null,null,null,null,null,null,{"$f":"IF('(10％用)入力フォーム'!W84:AO84=\"\",\"\",'(10％用)入力フォーム'!W84:AO84)","v":0}]
[]
["弊社使用欄",null,null,"本　社",null,"管理部",null,null,null,null,null,null,null,null,null,null,null,null,null,null,null,null,null,null,null,null,null,null,null,"事業所",null,"事業所長",null,null,null,null,null,null,null,null,"部長",null,null,null,null,null,null,null,null,"課長",null,null,null,null,null,null,null,null,"係長",null,null,null,null,null,null,null,null,"担当者"]

{"sheet":"請求書2","index":1,"n_rows":86,"n_cols":74,"rows_kept":86,"cut":false,"hidden":true,"merged":[[10,0,13,26],[11,50,13,69],[14,0,17,69],[18,41,21,75],[22,0,26,12],[22,13,26,16],[22,17,26,20],[22,21,26,24],[22,25,26,28],[22,29,26,32],[22,70,28,72],[22,73,28,75],[27,0,43,0],[27,1,43,6],[27,7,43,7],[29,38,35,38],[29,39,35,46],[29,47,35,47],[22,59,28,61],[22,62,28,64],[22,65,28,66],[22,67,28,69],[22,33,26,36],[22,38,28,38],[22,39,28,46],[22,47,28,47],[22,48,28,50],[22,51,28,53],[27,8,30,33],[27,34,41,36],[47,0,51,5],[47,6,51,30],[47,31,51,36],[47,37,51,53],[31,8,39,33],[36,38,43,38],[36,39,43,46],[36,47,43,47],[36,48,43,75],[40,8,41,33],[42,8,43,10],[42,11,43,12],[42,13,43,14],[42,15,43,16],[42,17,43,18],[42,19,43,20],[42,21,43,22],[22,54,28,55],[22,56,28,58],[42,23,43,24],[52,54,62,55],[52,56,62,74],[55,6,55,30],[55,31,55,36],[55,37,55,53],[56,0,58,1],[62,0,62,1],[62,2,62,14],[62,15,62,16],[62,17,62,36],[62,37,62,53],[45,0,46,36],[45,41,46,75],[42,25,43,26],[42,27,43,28],[42,29,43,30],[42,31,43,32],[42,33,43,34],[42,35,43,36],[47,54,51,75],[29,48,35,75],[64,0,66,75],[56,2,58,14],[56,15,58,16],[56,17,58,36],[56,37,58,53],[59,0,61,1],[59,2,61,14],[59,15,61,16],[59,17,61,36],[59,37,61,53],[52,75,62,75],[53,0,53,5],[53,6,53,30],[53,31,53,36],[53,37,53,53],[54,0,54,5],[54,6,54,30],[54,31,54,36],[54,37,54,53],[55,0,55,5],[52,0,52,5],[52,6,52,30],[52,31,52,36],[52,37,52,53],[80,41,85,42],[80,43,85,61],[80,62,85,62],[83,22,84,40],[68,0,69,40],[71,0,74,13],[71,14,74,17],[71,18,74,46],[76,0,79,21],[76,22,79,40],[76,41,79,62],[6,23,9,29],[0,0,4,75],[6,48,9,51],[6,43,9,47],[6,39,9,42],[6,34,9,38],[6,30,9,33],[84,67,85,75],[85,1,85,13],[85,14,85,20],[85,22,85,40],[81,0,82,0],[81,1,82,13],[81,14,82,20],[81,21,82,21],[81,22,82,40],[82,67,83,75],[83,0,84,0],[83,1,84,13],[83,14,84,20],[83,21,84,21],[80,1,80,13],[80,14,80,20],[80,22,80,40]]}
["請 求 書　(担当者控)"]
[]
[]
[]
[]
[]
[null,null,null,null,null,null,null,null,null,null,null,null,null,null,null,null,null,null,null,null,null,null,null,{"$f":"IF('(10％用)入力フォーム'!X7:AD10=\"\",\"\",'(10％用)入力フォーム'!X7:AD10)","v":""},null,null,null,null,null,null,"年",null,null,null,{"$f":"IF('(10％用)入力フォーム'!AI7:AM10=\"\",\"\",'(10％用)入力フォーム'!AI7:AM10)","v":""},null,null,null,null,"月",null,null,null,{"$f":"請求書!$AR$7","v":""},null,null,null,null,"日"]
[]
[]
[]
["松浦電機システム株式会社　御中"]
[]
[]
[]
["下記の通り、請求致します。"]
[]
[]
[]
[null,null,null,null,null,null,null,null,null,null,null,null,null,null,null,null,null,null,null,null,null,null,null,null,null,null,null,null,null,null,null,null,null,null,null,null,null,null,null,null,null,"工事番号内訳明細を添付される場合、チェックを入れて下さい。"]
[]
[]
[]
["取 引 先 コ ー ド",null,null,null,null,null,null,null,null,null,null,null,null,0,null,null,null,{"$f":"IF('(10％用)入力フォーム'!R23:U27=\"\",\"\",'(10％用)入力フォーム'!R23:U27)","v":""},null,null,null,{"$f":"IF('(10％用)入力フォーム'!V23:Y27=\"\",\"\",'(10％用)入力フォーム'!V23:Y27)","v":""},null,null,null,{"$f":"IF('(10％用)入力フォーム'!Z23:AC27=\"\",\"\",'(10％用)入力フォーム'!Z23:AC27)","v":""},null,null,null,{"$f":"IF('(10％用)入力フォーム'!AD23:AG27=\"\",\"\",'(10％用)入力フォーム'!AD23:AG27)","v":""},null,null,null,{"$f":"IF('(10％用)入力フォーム'!AH23:AK27=\"\",\"\",'(10％用)入力フォーム'!AH23:AK27)","v":""},null,null,null,null,null,"工事番号",null,null,null,null,null,null,null,null,{"$f":"IF('(10％用)入力フォーム'!AW23:AY29=\"\",\"\",'(10％用)入力フォーム'!AW23:AY29)","v":""},null,null,{"$f":"IF('(10％用)入力フォーム'!AZ23:BB29=\"\",\"\",'(10％用)入力フォーム'!AZ23:BB29)","v":""},null,null,"-",null,{"$f":"IF('(10％用)入力フォーム'!BE23:BG29=\"\",\"\",'(10％用)入力フォーム'!BE23:BG29)","v":""},null,null,{"$f":"IF('(10％用)入力フォーム'!BH23:BJ29=\"\",\"\",'(10％用)入力フォーム'!BH23:BJ29)","v":""},null,null,{"$f":"IF('(10％用)入力フォーム'!BK23:BM29=\"\",\"\",'(10％用)入力フォーム'!BK23:BM29)","v":""},null,null,"-",null,{"$f":"IF('(10％用)入力フォーム'!BP23:BR29=\"\",\"\",'(10％用)入力フォーム'!BP23:BR29)","v":""},null,null,{"$f":"IF('(10％用)入力フォーム'!BS23:BU29=\"\",\"\",'(10％用)入力フォーム'!BS23:BU29)","v":""},null,null,{"$f":"IF('(10％用)入力フォーム'!BV23:BX29=\"\",\"\",'(10％用)入力フォーム'!BV23:BX29)","v":""}]
[]
[]
[]
[]
[null,"会社名\n住　所\n電　話\nＦＡＸ\n登録番号",null,null,null,null,null,null,{"$f":"IF('(10％用)入力フォーム'!I28:AH31=\"\",\"\",'(10％用)入力フォーム'!I28:AH31)","v":""},null,null,null,null,null,null,null,null,null,null,null,null,null,null,null,null,null,null,null,null,null,null,null,null,null,"印"]
[]
[null,null,null,null,null,null,null,null,null,null,null,null,null,null,null,null,null,null,null,null,null,null,null,null,null,null,null,null,null,null,null,null,null,null,null,null,null,null,null,"現 場 名",null,null,null,null,null,null,null,null,{"$f":"IF(請求書!AW30=\"\",\"\",請求書!AW30)","v":""}]
[]
[null,null,null,null,null,null,null,null,{"$f":"IF('(10％用)入力フォーム'!I32:AH40=\"\",\"\",'(10％用)入力フォーム'!I32:AH40)","v":""}]
[]
[]
[]
[]
[null,null,null,null,null,null,null,null,null,null,null,null,null,null,null,null,null,null,null,null,null,null,null,null,null,null,null,null,null,null,null,null,null,null,null,null,null,null,null,"工 事 名",null,null,null,null,null,null,null,null,{"$f":"IF('(10％用)入力フォーム'!AW37:BX44=\"\",\"\",'(10％用)入力フォーム'!AW37:BX44)","v":""}]
[]
[]
[]
[null,null,null,null,null,null,null,null,{"$f":"IF('(10％用)入力フォーム'!I41:AH42=\"\",\"\",'(10％用)入力フォーム'!I41:AH42)","v":""}]
[null,null,null,null,null,null,null,null,"T",null,null,{"$f":"IF('(10％用)入力フォーム'!L42:M44=\"\",\"\",'(10％用)入力フォーム'!L42:M44)","v":""},null,{"$f":"IF('(10％用)入力フォーム'!N42:O44=\"\",\"\",'(10％用)入力フォーム'!N42:O44)","v":""},null,{"$f":"IF('(10％用)入力フォーム'!P42:Q44=\"\",\"\",'(10％用)入力フォーム'!P42:Q44)","v":""},null,{"$f":"IF('(10％用)入力フォーム'!R42:S44=\"\",\"\",'(10％用)入力フォーム'!R42:S44)","v":""},null,{"$f":"IF('(10％用)入力フォーム'!T42:U44=\"\",\"\",'(10％用)入力フォーム'!T42:U44)","v":""},null,{"$f":"IF('(10％用)入力フォーム'!V42:W44=\"\",\"\",'(10％用)入力フォーム'!V42:W44)","v":""},null,{"$f":"IF('(10％用)入力フォーム'!X42:Y44=\"\",\"\",'(10％用)入力フォーム'!X42:Y44)","v":""},null,{"$f":"IF('(10％用)入力フォーム'!Z42:AA44=\"\",\"\",'(10％用)入力フォーム'!Z42:AA44)","v":""},null,{"$f":"IF('(10％用)入力フォーム'!AB42:AC44=\"\",\"\",'(10％用)入力フォーム'!AB42:AC44)","v":""},null,{"$f":"IF('(10％用)入力フォーム'!AD42:AE44=\"\",\"\",'(10％用)入力フォーム'!AD42:AE44)","v":""},null,{"$f":"IF('(10％用)入力フォーム'!AF42:AG44=\"\",\"\",'(10％用)入力フォーム'!AF42:AG44)","v":""},null,{"$f":"IF('(10％用)入力フォーム'!AH42:AI44=\"\",\"\",'(10％用)入力フォーム'!AH42:AI44)","v":""},null,{"$f":"IF('(10％用)入力フォーム'!AJ42:AK44=\"\",\"\",'(10％用)入力フォーム'!AJ42:AK44)","v":""}]
[null,null,null,null,null,null,null,null,{"$f":"IF('(10％用)入力フォーム'!I43:K44=\"\",\"\",'(10％用)入力フォーム'!I43:K44)","v":"T"},null,null,{"$f":"IF('(10％用)入力フォーム'!L43:M44=\"\",\"\",'(10％用)入力フォーム'!L43:M44)","v":""},null,{"$f":"IF('(10％用)入力フォーム'!N43:O44=\"\",\"\",'(10％用)入力フォーム'!N43:O44)","v":""},null,{"$f":"IF('(10％用)入力フォーム'!P43:Q44=\"\",\"\",'(10％用)入力フォーム'!P43:Q44)","v":""},null,{"$f":"IF('(10％用)入力フォーム'!R43:S44=\"\",\"\",'(10％用)入力フォーム'!R43:S44)","v":""},null,{"$f":"IF('(10％用)入力フォーム'!T43:U44=\"\",\"\",'(10％用)入力フォーム'!T43:U44)","v":""},null,{"$f":"IF('(10％用)入力フォーム'!V43:W44=\"\",\"\",'(10％用)入力フォーム'!V43:W44)","v":""},null,{"$f":"IF('(10％用)入力フォーム'!X43:Y44=\"\",\"\",'(10％用)入力フォーム'!X43:Y44)","v":""},null,{"$f":"IF('(10％用)入力フォーム'!Z43:AA44=\"\",\"\",'(10％用)入力フォーム'!Z43:AA44)","v":""},null,{"$f":"IF('(10％用)入力フォーム'!AB43:AC44=\"\",\"\",'(10％用)入力フォーム'!AB43:AC44)","v":""},null,{"$f":"IF('(10％用)入力フォーム'!AD43:AE44=\"\",\"\",'(10％用)入力フォーム'!AD43:AE44)","v":""},null,{"$f":"IF('(10％用)入力フォーム'!AF43:AG44=\"\",\"\",'(10％用)入力フォーム'!AF43:AG44)","v":""},null,{"$f":"IF('(10％用)入力フォーム'!AH43:AI44=\"\",\"\",'(10％用)入力フォーム'!AH43:AI44)","v":""},null,{"$f":"IF('(10％用)入力フォーム'!AJ43:AK44=\"\",\"\",'(10％用)入力フォーム'!AJ43:AK44)","v":""}]
[]
[]
["（請求内訳）",null,null,null,null,null,null,null,null,null,null,null,null,null,null,null,null,null,null,null,null,null,null,null,null,null,null,null,null,null,null,null,null,null,null,null,null,null,null,null,null,"品名内訳明細を添付される場合、チェックを入れて下さい。"]
[]
["納入日",null,null,null,null,null,"品　　　　　　名",null,null,null,null,null,null,null,null,null,null,null,null,null,null,null,null,null,null,null,null,null,null,null,null,"数量",null,null,null,null,null,"金　　　　額",null,null,null,null,null,null,null,null,null,null,null,null,null,null,null,null,"請求時の注意事項"]
[]
[]
[]
[]
[{"$f":"請求書!A53","v":""},null,null,null,null,null,{"$f":"請求書!G53","v":""},null,null,null,null,null,null,null,null,null,null,null,null,null,null,null,null,null,null,null,null,null,null,null,null,{"$f":"請求書!AF53","v":""},null,null,null,null,null,{"$f":"請求書!AL53","v":""},null,null,null,null,null,null,null,null,null,null,null,null,null,null,null,null,"1.\n\n\n\n2.\n\n\n3.\n\n\n\n\n4.\n\n\n\n\n5.\n\n\n",null,"この請求書は3枚1組です。\n1枚目経理控に貴社押印後、\nご提出下さい。\n\n会社名欄は、ゴム印を使用する際は入力不要です。\n\n工事番号内訳明細がある場合は、上段『工事番号』上の\nチェックボックスに必ずチェックを入れて下さい。\n\n品名内訳明細がある場合は、\n中段『(請求内訳)』横のチェックボックスにチェックを入れて\n下さい。\n\n消費税の端数調整が必要な場合は、中段『消費税(10)％』横のチェックボックスにチェックを入れて下さい。"]
[{"$f":"請求書!A54","v":""},null,null,null,null,null,{"$f":"請求書!G54","v":""},null,null,null,null,null,null,null,null,null,null,null,null,null,null,null,null,null,null,null,null,null,null,null,null,{"$f":"請求書!AF54","v":""},null,null,null,null,null,{"$f":"請求書!AL54","v":""}]
[{"$f":"請求書!A55","v":""},null,null,null,null,null,{"$f":"請求書!G55","v":""},null,null,null,null,null,null,null,null,null,null,null,null,null,null,null,null,null,null,null,null,null,null,null,null,{"$f":"請求書!AF55","v":""},null,null,null,null,null,{"$f":"請求書!AL55","v":""}]
[{"$f":"請求書!A56","v":""},null,null,null,null,null,{"$f":"請求書!G56","v":""},null,null,null,null,null,null,null,null,null,null,null,null,null,null,null,null,null,null,null,null,null,null,null,null,{"$f":"請求書!AF56","v":""},null,null,null,null,null,{"$f":"請求書!AL56","v":""}]
[null,null,"小計金額 (税抜)",null,null,null,null,null,null,null,null,null,null,null,null,null,null,null,null,null,null,null,null,null,null,null,null,null,null,null,null,null,null,null,null,null,null,{"$f":"請求書!AL57","v":""}]
[]
[]
[null,null,"消費税 (10%)",null,null,null,null,null,null,null,null,null,null,null,null,null,null,null,null,null,null,null,null,null,null,null,null,null,null,null,null,null,null,null,null,null,null,{"$f":"請求書!AL60","v":""}]
[]
[]
[null,null,"合 計 金 額",null,null,null,null,null,null,null,null,null,null,null,null,null,null,null,null,null,null,null,null,null,null,null,null,null,null,null,null,null,null,null,null,null,null,{"$f":"請求書!AL63","v":""}]
[]
["上記の請求に対して、注文書が発行されている場合は、下記に注文書番号と金額の記載をお願い致します。"]
[]
[]
[]
["（出来高請求書）"]
[]
[]
["注文書No.",null,null,null,null,null,null,null,null,null,null,null,null,null,"No.",null,null,null,{"$f":"請求書!S72","v":""}]
[]
[]
[]
[]
["項　　　　目",null,null,null,null,null,null,null,null,null,null,null,null,null,null,null,null,null,null,null,null,null,"金　　　額",null,null,null,null,null,null,null,null,null,null,null,null,null,null,null,null,null,null,"請求時の注意事項"]
[]
[]
[]
[null,"契約金額",null,null,null,null,null,null,null,null,null,null,null,null,"(税抜)",null,null,null,null,null,null,null,{"$f":"請求書!W81","v":""},null,null,null,null,null,null,null,null,null,null,null,null,null,null,null,null,null,null,"\n1.\n\n\n2.\n\n\n3.",null,"\n注文書No.が不明な場合、\n担当者へご確認下さい。\n\n請求書は注文書No.ごとに\n作成して下さい。\n\n税抜金額で入力して下さい。\n"]
[null,"請求済",null,null,null,null,null,null,null,null,null,null,null,null,"(税抜)",null,null,null,null,null,null,null,{"$f":"請求書!W82","v":""}]
[null,null,null,null,null,null,null,null,null,null,null,null,null,null,null,null,null,null,null,null,null,null,null,null,null,null,null,null,null,null,null,null,null,null,null,null,null,null,null,null,null,null,null,null,null,null,null,null,null,null,null,null,null,null,null,null,null,null,null,null,null,null,null,null,null,null,null,"担当者"]
[null,"今回請求額",null,null,null,null,null,null,null,null,null,null,null,null,"(税抜)",null,null,null,null,null,null,null,{"$f":"請求書!W83","v":""}]
[]
[null,"残高",null,null,null,null,null,null,null,null,null,null,null,null,"(税抜)",null,null,null,null,null,null,null,{"$f":"請求書!W84","v":0}]

{"sheet":"請求書3","index":2,"n_rows":84,"n_cols":74,"rows_kept":84,"cut":false,"hidden":true,"merged":[[31,8,39,33],[40,8,41,33],[42,8,43,10],[42,11,43,12],[42,13,43,14],[42,15,43,16],[42,17,43,18],[42,19,43,20],[42,21,43,22],[42,23,43,24],[42,25,43,26],[42,27,43,28],[0,0,4,75],[6,23,9,29],[6,30,9,33],[6,34,9,38],[6,39,9,42],[6,43,9,47],[6,48,9,51],[10,0,13,26],[11,50,13,69],[14,0,17,69],[18,41,21,75],[22,0,26,12],[22,13,26,16],[22,17,26,20],[22,21,26,24],[22,25,26,28],[22,67,28,69],[22,70,28,72],[22,73,28,75],[27,0,43,0],[27,1,43,6],[27,7,43,7],[29,38,35,38],[29,39,35,46],[22,51,28,53],[22,54,28,55],[22,56,28,58],[22,59,28,61],[22,62,28,64],[22,65,28,66],[22,29,26,32],[22,33,26,36],[22,38,28,38],[22,39,28,46],[22,47,28,47],[22,48,28,50],[45,0,46,36],[45,41,46,75],[47,0,51,5],[47,6,51,30],[47,31,51,36],[47,37,51,53],[47,54,51,75],[29,47,35,47],[29,48,35,75],[36,38,43,38],[36,39,43,46],[36,47,43,47],[36,48,43,75],[27,8,30,33],[42,29,43,30],[42,31,43,32],[42,33,43,34],[42,35,43,36],[27,34,41,36],[52,54,62,55],[52,56,62,74],[55,6,55,30],[55,31,55,36],[55,37,55,53],[56,0,58,1],[62,0,62,1],[62,2,62,14],[62,15,62,16],[62,17,62,36],[62,37,62,53],[64,0,66,75],[56,2,58,14],[56,15,58,16],[56,17,58,36],[56,37,58,53],[59,0,61,1],[59,2,61,14],[59,15,61,16],[59,17,61,36],[59,37,61,53],[52,75,62,75],[53,0,53,5],[53,6,53,30],[53,31,53,36],[53,37,53,53],[54,0,54,5],[54,6,54,30],[54,31,54,36],[54,37,54,53],[55,0,55,5],[52,0,52,5],[52,6,52,30],[52,31,52,36],[52,37,52,53],[80,43,83,61],[80,62,83,62],[81,1,81,13],[81,14,81,20],[81,22,81,40],[82,1,82,13],[68,0,69,40],[71,0,74,13],[71,14,74,17],[71,18,74,46],[76,0,79,21],[76,22,79,40],[76,41,79,62],[82,14,82,20],[82,22,82,40],[83,1,83,13],[83,14,83,20],[83,22,83,40],[80,1,80,13],[80,14,80,20],[80,22,80,40],[80,41,83,42]]}
["請 求 書　(貴 社 控)"]
[]
[]
[]
[]
[]
[null,null,null,null,null,null,null,null,null,null,null,null,null,null,null,null,null,null,null,null,null,null,null,{"$f":"IF('(10％用)入力フォーム'!X7:AD10=\"\",\"\",'(10％用)入力フォーム'!X7:AD10)","v":""},null,null,null,null,null,null,"年",null,null,null,{"$f":"IF('(10％用)入力フォーム'!AI7:AM10=\"\",\"\",'(10％用)入力フォーム'!AI7:AM10)","v":""},null,null,null,null,"月",null,null,null,{"$f":"請求書!$AR$7","v":""},null,null,null,null,"日"]
[]
[]
[]
["松浦電機システム株式会社　御中"]
[]
[]
[]
["下記の通り、請求致します。"]
[]
[]
[]
[null,null,null,null,null,null,null,null,null,null,null,null,null,null,null,null,null,null,null,null,null,null,null,null,null,null,null,null,null,null,null,null,null,null,null,null,null,null,null,null,null,"工事番号内訳明細を添付される場合、チェックを入れて下さい。"]
[]
[]
[]
["取 引 先 コ ー ド",null,null,null,null,null,null,null,null,null,null,null,null,0,null,null,null,{"$f":"IF('(10％用)入力フォーム'!R23:U27=\"\",\"\",'(10％用)入力フォーム'!R23:U27)","v":""},null,null,null,{"$f":"IF('(10％用)入力フォーム'!V23:Y27=\"\",\"\",'(10％用)入力フォーム'!V23:Y27)","v":""},null,null,null,{"$f":"IF('(10％用)入力フォーム'!Z23:AC27=\"\",\"\",'(10％用)入力フォーム'!Z23:AC27)","v":""},null,null,null,{"$f":"IF('(10％用)入力フォーム'!AD23:AG27=\"\",\"\",'(10％用)入力フォーム'!AD23:AG27)","v":""},null,null,null,{"$f":"IF('(10％用)入力フォーム'!AH23:AK27=\"\",\"\",'(10％用)入力フォーム'!AH23:AK27)","v":""},null,null,null,null,null,"工事番号",null,null,null,null,null,null,null,null,{"$f":"IF('(10％用)入力フォーム'!AW23:AY29=\"\",\"\",'(10％用)入力フォーム'!AW23:AY29)","v":""},null,null,{"$f":"IF('(10％用)入力フォーム'!AZ23:BB29=\"\",\"\",'(10％用)入力フォーム'!AZ23:BB29)","v":""},null,null,"-",null,{"$f":"IF('(10％用)入力フォーム'!BE23:BG29=\"\",\"\",'(10％用)入力フォーム'!BE23:BG29)","v":""},null,null,{"$f":"IF('(10％用)入力フォーム'!BH23:BJ29=\"\",\"\",'(10％用)入力フォーム'!BH23:BJ29)","v":""},null,null,{"$f":"IF('(10％用)入力フォーム'!BK23:BM29=\"\",\"\",'(10％用)入力フォーム'!BK23:BM29)","v":""},null,null,"-",null,{"$f":"IF('(10％用)入力フォーム'!BP23:BR29=\"\",\"\",'(10％用)入力フォーム'!BP23:BR29)","v":""},null,null,{"$f":"IF('(10％用)入力フォーム'!BS23:BU29=\"\",\"\",'(10％用)入力フォーム'!BS23:BU29)","v":""},null,null,{"$f":"IF('(10％用)入力フォーム'!BV23:BX29=\"\",\"\",'(10％用)入力フォーム'!BV23:BX29)","v":""}]
[]
[]
[]
[]
[null,"会社名\n住　所\n電　話\nＦＡＸ\n登録番号",null,null,null,null,null,null,{"$f":"IF('(10％用)入力フォーム'!I28:AH31=\"\",\"\",'(10％用)入力フォーム'!I28:AH31)","v":""},null,null,null,null,null,null,null,null,null,null,null,null,null,null,null,null,null,null,null,null,null,null,null,null,null,"印"]
[]
[null,null,null,null,null,null,null,null,null,null,null,null,null,null,null,null,null,null,null,null,null,null,null,null,null,null,null,null,null,null,null,null,null,null,null,null,null,null,null,"現 場 名",null,null,null,null,null,null,null,null,{"$f":"IF(請求書!AW30=\"\",\"\",請求書!AW30)","v":""}]
[]
[null,null,null,null,null,null,null,null,{"$f":"IF('(10％用)入力フォーム'!I32:AH40=\"\",\"\",'(10％用)入力フォーム'!I32:AH40)","v":""}]
[]
[]
[]
[]
[null,null,null,null,null,null,null,null,null,null,null,null,null,null,null,null,null,null,null,null,null,null,null,null,null,null,null,null,null,null,null,null,null,null,null,null,null,null,null,"工 事 名",null,null,null,null,null,null,null,null,{"$f":"IF('(10％用)入力フォーム'!AW37:BX44=\"\",\"\",'(10％用)入力フォーム'!AW37:BX44)","v":""}]
[]
[]
[]
[null,null,null,null,null,null,null,null,{"$f":"IF('(10％用)入力フォーム'!I41:AH42=\"\",\"\",'(10％用)入力フォーム'!I41:AH42)","v":""}]
[null,null,null,null,null,null,null,null,"T",null,null,{"$f":"IF('(10％用)入力フォーム'!L42:M44=\"\",\"\",'(10％用)入力フォーム'!L42:M44)","v":""},null,{"$f":"IF('(10％用)入力フォーム'!N42:O44=\"\",\"\",'(10％用)入力フォーム'!N42:O44)","v":""},null,{"$f":"IF('(10％用)入力フォーム'!P42:Q44=\"\",\"\",'(10％用)入力フォーム'!P42:Q44)","v":""},null,{"$f":"IF('(10％用)入力フォーム'!R42:S44=\"\",\"\",'(10％用)入力フォーム'!R42:S44)","v":""},null,{"$f":"IF('(10％用)入力フォーム'!T42:U44=\"\",\"\",'(10％用)入力フォーム'!T42:U44)","v":""},null,{"$f":"IF('(10％用)入力フォーム'!V42:W44=\"\",\"\",'(10％用)入力フォーム'!V42:W44)","v":""},null,{"$f":"IF('(10％用)入力フォーム'!X42:Y44=\"\",\"\",'(10％用)入力フォーム'!X42:Y44)","v":""},null,{"$f":"IF('(10％用)入力フォーム'!Z42:AA44=\"\",\"\",'(10％用)入力フォーム'!Z42:AA44)","v":""},null,{"$f":"IF('(10％用)入力フォーム'!AB42:AC44=\"\",\"\",'(10％用)入力フォーム'!AB42:AC44)","v":""},null,{"$f":"IF('(10％用)入力フォーム'!AD42:AE44=\"\",\"\",'(10％用)入力フォーム'!AD42:AE44)","v":""},null,{"$f":"IF('(10％用)入力フォーム'!AF42:AG44=\"\",\"\",'(10％用)入力フォーム'!AF42:AG44)","v":""},null,{"$f":"IF('(10％用)入力フォーム'!AH42:AI44=\"\",\"\",'(10％用)入力フォーム'!AH42:AI44)","v":""},null,{"$f":"IF('(10％用)入力フォーム'!AJ42:AK44=\"\",\"\",'(10％用)入力フォーム'!AJ42:AK44)","v":""}]
[null,null,null,null,null,null,null,null,{"$f":"IF('(10％用)入力フォーム'!I43:K44=\"\",\"\",'(10％用)入力フォーム'!I43:K44)","v":"T"},null,null,{"$f":"IF('(10％用)入力フォーム'!L43:M44=\"\",\"\",'(10％用)入力フォーム'!L43:M44)","v":""},null,{"$f":"IF('(10％用)入力フォーム'!N43:O44=\"\",\"\",'(10％用)入力フォーム'!N43:O44)","v":""},null,{"$f":"IF('(10％用)入力フォーム'!P43:Q44=\"\",\"\",'(10％用)入力フォーム'!P43:Q44)","v":""},null,{"$f":"IF('(10％用)入力フォーム'!R43:S44=\"\",\"\",'(10％用)入力フォーム'!R43:S44)","v":""},null,{"$f":"IF('(10％用)入力フォーム'!T43:U44=\"\",\"\",'(10％用)入力フォーム'!T43:U44)","v":""},null,{"$f":"IF('(10％用)入力フォーム'!V43:W44=\"\",\"\",'(10％用)入力フォーム'!V43:W44)","v":""},null,{"$f":"IF('(10％用)入力フォーム'!X43:Y44=\"\",\"\",'(10％用)入力フォーム'!X43:Y44)","v":""},null,{"$f":"IF('(10％用)入力フォーム'!Z43:AA44=\"\",\"\",'(10％用)入力フォーム'!Z43:AA44)","v":""},null,{"$f":"IF('(10％用)入力フォーム'!AB43:AC44=\"\",\"\",'(10％用)入力フォーム'!AB43:AC44)","v":""},null,{"$f":"IF('(10％用)入力フォーム'!AD43:AE44=\"\",\"\",'(10％用)入力フォーム'!AD43:AE44)","v":""},null,{"$f":"IF('(10％用)入力フォーム'!AF43:AG44=\"\",\"\",'(10％用)入力フォーム'!AF43:AG44)","v":""},null,{"$f":"IF('(10％用)入力フォーム'!AH43:AI44=\"\",\"\",'(10％用)入力フォーム'!AH43:AI44)","v":""},null,{"$f":"IF('(10％用)入力フォーム'!AJ43:AK44=\"\",\"\",'(10％用)入力フォーム'!AJ43:AK44)","v":""}]
[]
[]
["（請求内訳）",null,null,null,null,null,null,null,null,null,null,null,null,null,null,null,null,null,null,null,null,null,null,null,null,null,null,null,null,null,null,null,null,null,null,null,null,null,null,null,null,"品名内訳明細を添付される場合、チェックを入れて下さい。"]
[]
["納入日",null,null,null,null,null,"品　　　　　　名",null,null,null,null,null,null,null,null,null,null,null,null,null,null,null,null,null,null,null,null,null,null,null,null,"数量",null,null,null,null,null,"金　　　　額",null,null,null,null,null,null,null,null,null,null,null,null,null,null,null,null,"請求時の注意事項"]
[]
[]
[]
[]
[{"$f":"請求書!A53","v":""},null,null,null,null,null,{"$f":"請求書!G53","v":""},null,null,null,null,null,null,null,null,null,null,null,null,null,null,null,null,null,null,null,null,null,null,null,null,{"$f":"請求書!AF53","v":""},null,null,null,null,null,{"$f":"請求書!AL53","v":""},null,null,null,null,null,null,null,null,null,null,null,null,null,null,null,null,"1.\n\n\n\n2.\n\n\n3.\n\n\n\n\n4.\n\n\n\n\n5.\n\n\n",null,"この請求書は3枚1組です。\n1枚目経理控に貴社押印後、\nご提出下さい。\n\n会社名欄は、ゴム印を使用する際は入力不要です。\n\n工事番号内訳明細がある場合は、上段『工事番号』上の\nチェックボックスに必ずチェックを入れて下さい。\n\n品名内訳明細がある場合は、\n中段『(請求内訳)』横のチェックボックスにチェックを入れて\n下さい。\n\n消費税の端数調整が必要な場合は、中段『消費税(10)％』横のチェックボックスにチェックを入れて下さい。"]
[{"$f":"請求書!A54","v":""},null,null,null,null,null,{"$f":"請求書!G54","v":""},null,null,null,null,null,null,null,null,null,null,null,null,null,null,null,null,null,null,null,null,null,null,null,null,{"$f":"請求書!AF54","v":""},null,null,null,null,null,{"$f":"請求書!AL54","v":""}]
[{"$f":"請求書!A55","v":""},null,null,null,null,null,{"$f":"請求書!G55","v":""},null,null,null,null,null,null,null,null,null,null,null,null,null,null,null,null,null,null,null,null,null,null,null,null,{"$f":"請求書!AF55","v":""},null,null,null,null,null,{"$f":"請求書!AL55","v":""}]
[{"$f":"請求書!A56","v":""},null,null,null,null,null,{"$f":"請求書!G56","v":""},null,null,null,null,null,null,null,null,null,null,null,null,null,null,null,null,null,null,null,null,null,null,null,null,{"$f":"請求書!AF56","v":""},null,null,null,null,null,{"$f":"請求書!AL56","v":""}]
[null,null,"小計金額 (税抜)",null,null,null,null,null,null,null,null,null,null,null,null,null,null,null,null,null,null,null,null,null,null,null,null,null,null,null,null,null,null,null,null,null,null,{"$f":"請求書!AL57","v":""}]
[]
[]
[null,null,"消費税 (10%)",null,null,null,null,null,null,null,null,null,null,null,null,null,null,null,null,null,null,null,null,null,null,null,null,null,null,null,null,null,null,null,null,null,null,{"$f":"請求書!AL60","v":""}]
[]
[]
[null,null,"合 計 金 額",null,null,null,null,null,null,null,null,null,null,null,null,null,null,null,null,null,null,null,null,null,null,null,null,null,null,null,null,null,null,null,null,null,null,{"$f":"請求書!AL63","v":""}]
[]
["上記の請求に対して、注文書が発行されている場合は、下記に注文書番号と金額の記載をお願い致します。"]
[]
[]
[]
["（出来高請求書）"]
[]
[]
["注文書No.",null,null,null,null,null,null,null,null,null,null,null,null,null,"No.",null,null,null,{"$f":"請求書!S72","v":""}]
[]
[]
[]
[]
["項　　　　目",null,null,null,null,null,null,null,null,null,null,null,null,null,null,null,null,null,null,null,null,null,"金　　　額",null,null,null,null,null,null,null,null,null,null,null,null,null,null,null,null,null,null,"請求時の注意事項"]
[]
[]
[]
[null,"契約金額",null,null,null,null,null,null,null,null,null,null,null,null,"(税抜)",null,null,null,null,null,null,null,{"$f":"請求書!W81","v":""},null,null,null,null,null,null,null,null,null,null,null,null,null,null,null,null,null,null,"\n1.\n\n\n2.\n\n\n3.",null,"\n注文書No.が不明な場合、\n担当者へご確認下さい。\n\n請求書は注文書No.ごとに\n作成して下さい。\n\n税抜金額で入力して下さい。\n"]
[null,"請求済",null,null,null,null,null,null,null,null,null,null,null,null,"(税抜)",null,null,null,null,null,null,null,{"$f":"請求書!W82","v":""}]
[null,"今回請求額",null,null,null,null,null,null,null,null,null,null,null,null,"(税抜)",null,null,null,null,null,null,null,{"$f":"請求書!W83","v":""}]
[null,"残高",null,null,null,null,null,null,null,null,null,null,null,null,"(税抜)",null,null,null,null,null,null,null,{"$f":"請求書!W84","v":0}]

{"sheet":"(10％用)入力フォーム","index":3,"n_rows":84,"n_cols":80,"rows_kept":84,"cut":false,"hidden":false,"merged":[[47,0,51,5],[55,0,55,5],[22,29,26,32],[22,33,26,36],[22,13,26,16],[22,17,26,20],[22,21,26,24],[45,0,46,36],[42,8,43,10],[42,11,43,12],[42,13,43,14],[42,15,43,16],[42,17,43,18],[42,19,43,20],[42,21,43,22],[42,23,43,24],[42,25,43,26],[31,8,39,33],[80,1,80,13],[80,14,80,20],[27,1,43,6],[27,7,43,7],[22,38,28,38],[22,39,28,46],[59,20,61,20],[59,21,61,36],[71,18,74,46],[36,39,43,46],[22,0,26,12],[54,0,54,5],[56,17,58,36],[59,17,61,19],[62,17,62,36],[45,41,46,75],[47,31,51,36],[27,0,43,0],[52,31,52,36],[52,6,52,30],[55,31,55,36],[54,31,54,36],[53,31,53,36],[47,6,51,30],[83,22,83,40],[56,37,58,53],[52,75,62,75],[52,56,62,74],[80,62,83,62],[80,43,83,61],[59,37,61,53],[81,1,81,13],[81,14,81,20],[82,1,82,13],[82,14,82,20],[83,1,83,13],[83,14,83,20],[62,0,62,1],[59,0,61,1],[56,0,58,1],[62,2,62,14],[59,2,61,14],[56,2,58,14],[76,41,79,62],[62,37,62,53],[82,22,82,40],[80,41,83,42],[80,22,80,40],[0,0,4,75],[81,22,81,40],[71,0,74,13],[71,14,74,17],[68,0,69,40],[64,0,66,75],[52,0,52,5],[53,0,53,5],[76,0,79,21],[76,22,79,40],[52,37,52,53],[53,37,53,53],[54,37,54,53],[55,37,55,53],[14,0,17,69],[47,54,51,75],[22,25,26,28],[53,6,53,30],[54,6,54,30],[55,6,55,30],[36,38,43,38],[62,15,62,16],[59,15,61,16],[56,15,58,16],[22,54,28,55],[47,37,51,53],[27,8,30,33],[22,47,28,47],[22,48,28,50],[42,27,43,28],[42,29,43,30],[42,31,43,32],[42,33,43,34],[42,35,43,36],[27,34,41,36],[40,8,41,33],[52,54,62,55],[36,47,43,47],[6,23,9,29],[22,51,28,53],[29,48,35,75],[36,48,43,75],[22,73,28,75],[22,70,28,72],[22,65,28,66],[22,62,28,64],[18,41,21,75],[22,67,28,69],[22,59,28,61],[22,56,28,58],[11,50,13,69],[29,38,35,38],[29,39,35,46],[29,47,35,47],[6,48,9,51],[6,43,9,47],[10,0,13,26],[6,39,9,42],[6,34,9,38],[6,30,9,33]]}
["請 求 書　(入力フォーム)"]
[]
[]
[]
[]
[]
[null,null,null,null,null,null,null,null,null,null,null,null,null,null,null,null,null,null,null,null,null,null,null,null,null,null,null,null,null,null,"年",null,null,null,null,null,null,null,null,"月",null,null,null,null,null,null,null,null,"日",null,null,null,null,null,null,null,null,null,null,null,null,null,null,null,null,null,null,null,null,null,null,null,null,null,null,null,null,null,null,{"$f":"$AL$57","v":""}]
[]
[]
[]
["松浦電機システム株式会社　御中"]
[null,null,null,null,null,null,null,null,null,null,null,null,null,null,null,null,null,null,null,null,null,null,null,null,null,null,null,null,null,null,null,null,null,null,null,null,null,null,null,null,null,null,null,null,null,null,null,null,null,null,"*黄色の部分のみ入力"]
[]
[]
["下記の通り、請求致します。"]
[]
[]
[]
[null,null,null,null,null,null,null,null,null,null,null,null,null,null,null,null,null,null,null,null,null,null,null,null,null,null,null,null,null,null,null,null,null,null,null,null,null,null,null,null,null,"工事番号内訳明細を添付される場合、チェックを入れて下さい。"]
[]
[]
[]
["取 引 先 コ ー ド",null,null,null,null,null,null,null,null,null,null,null,null,0,null,null,null,null,null,null,null,null,null,null,null,null,null,null,null,null,null,null,null,null,null,null,null,null,null,"工事番号",null,null,null,null,null,null,null,null,null,null,null,null,null,null,"-",null,null,null,null,null,null,null,null,null,null,"-"]
[]
[]
[]
[]
[null,"会社名\n住　所\n電　話\nＦＡＸ\n登録番号"]
[]
[null,null,null,null,null,null,null,null,null,null,null,null,null,null,null,null,null,null,null,null,null,null,null,null,null,null,null,null,null,null,null,null,null,null,null,null,null,null,null,"現 場 名"]
[]
[]
[]
[]
[]
[]
[null,null,null,null,null,null,null,null,null,null,null,null,null,null,null,null,null,null,null,null,null,null,null,null,null,null,null,null,null,null,null,null,null,null,null,null,null,null,null,"工 事 名"]
[]
[]
[]
[]
[]
[null,null,null,null,null,null,null,null,"T"]
[]
[]
["（請求内訳）",null,null,null,null,null,null,null,null,null,null,null,null,null,null,null,null,null,null,null,null,null,null,null,null,null,null,null,null,null,null,null,null,null,null,null,null,null,null,null,null,"品名内訳明細を添付される場合、チェックを入れて下さい。"]
[]
["納入日",null,null,null,null,null,"品　　　　　　名",null,null,null,null,null,null,null,null,null,null,null,null,null,null,null,null,null,null,null,null,null,null,null,null,"数量",null,null,null,null,null,"金　　　　額",null,null,null,null,null,null,null,null,null,null,null,null,null,null,null,null,"請求時の注意事項"]
[]
[]
[]
[]
[null,null,null,null,null,null,null,null,null,null,null,null,null,null,null,null,null,null,null,null,null,null,null,null,null,null,null,null,null,null,null,null,null,null,null,null,null,null,null,null,null,null,null,null,null,null,null,null,null,null,null,null,null,null,"1.\n\n\n\n2.\n\n\n3.\n\n\n\n\n4.\n\n\n\n\n5.\n\n\n",null,"この請求書は3枚1組です。\n1枚目経理控に貴社押印後、\nご提出下さい。\n\n会社名欄は、ゴム印を使用する際は入力不要です。\n\n工事番号内訳明細がある場合は、上段『工事番号』上の\nチェックボックスに必ずチェックを入れて下さい。\n\n品名内訳明細がある場合は、\n中段『(請求内訳)』横のチェックボックスにチェックを入れて\n下さい。\n\n消費税の端数調整が必要な場合は、中段『消費税(10)％』横のチェックボックスにチェックを入れて下さい。"]
[]
[]
[]
[null,null,"小計金額 (税抜)",null,null,null,null,null,null,null,null,null,null,null,null,null,null,null,null,null,null,null,null,null,null,null,null,null,null,null,null,null,null,null,null,null,null,{"$f":"IF(AL53=\"\",\"\",SUM(AL53,AL54,AL55,AL56))","v":""}]
[]
[]
[null,null,"消費税 (10%)",null,null,null,null,null,null,null,null,null,null,null,null,null,null,null,null,null,null,"消費税の端数調整が\n必要な場合、チェックを入れて下さい。",null,null,null,null,null,null,null,null,null,null,null,null,null,null,null,{"$f":"IF(AL57=\"\",\"\",INT(AL57*10%))","v":""}]
[]
[]
[null,null,"合 計 金 額",null,null,null,null,null,null,null,null,null,null,null,null,null,null,null,null,null,null,null,null,null,null,null,null,null,null,null,null,null,null,null,null,null,null,{"$f":"IF(AL57=\"\",\"\",SUM(AL57,AL60))","v":""}]
[]
["上記の請求に対して、注文書が発行されている場合は、下記に注文書番号と金額の記載をお願い致します。"]
[]
[]
[]
["（出来高請求書）"]
[]
[]
["注文書No.",null,null,null,null,null,null,null,null,null,null,null,null,null,"No."]
[]
[]
[]
[]
["項　　　　目",null,null,null,null,null,null,null,null,null,null,null,null,null,null,null,null,null,null,null,null,null,"金　　　額",null,null,null,null,null,null,null,null,null,null,null,null,null,null,null,null,null,null,"請求時の注意事項"]
[]
[]
[]
[null,"契約金額",null,null,null,null,null,null,null,null,null,null,null,null,"(税抜)",null,null,null,null,null,null,null,null,null,null,null,null,null,null,null,null,null,null,null,null,null,null,null,null,null,null,"\n1.\n\n\n2.\n\n\n3.",null,"\n注文書No.が不明な場合、\n担当者へご確認下さい。\n\n請求書は注文書No.ごとに\n作成して下さい。\n\n税抜金額で入力して下さい。\n"]
[null,"請求済",null,null,null,null,null,null,null,null,null,null,null,null,"(税抜)"]
[null,"今回請求額",null,null,null,null,null,null,null,null,null,null,null,null,"(税抜)"]
[null,"残高",null,null,null,null,null,null,null,null,null,null,null,null,"(税抜)",null,null,null,null,null,null,null,{"$f":"W81-(W82+W83)","v":0}]

{"sheet":"工事番号内訳明細書","index":4,"n_rows":292,"n_cols":15,"rows_kept":292,"cut":false,"hidden":true,"merged":[[1,7,1,8],[165,8,168,8],[165,9,166,9],[157,10,160,11],[158,7,160,7],[159,9,160,9],[161,10,164,11],[165,10,168,11],[166,7,168,7],[167,9,168,9],[165,0,168,0],[165,1,168,1],[165,2,168,2],[169,0,172,0],[169,1,172,1],[169,2,172,2],[169,3,172,3],[169,4,172,4],[169,5,172,5],[169,6,172,6],[169,8,172,8],[169,9,170,9],[165,3,168,3],[165,4,168,4],[165,5,168,5],[165,6,168,6],[169,10,172,11],[170,7,172,7],[171,9,172,9],[69,0,72,0],[69,1,72,1],[161,6,164,6],[161,8,164,8],[61,10,64,11],[62,7,64,7],[63,9,64,9],[61,6,64,6],[61,8,64,8],[61,9,62,9],[161,9,162,9],[162,7,164,7],[163,9,164,9],[85,6,88,6],[157,6,160,6],[157,8,160,8],[157,9,158,9],[77,10,80,11],[81,6,84,6],[81,8,84,8],[81,9,82,9],[78,7,80,7],[82,7,84,7],[83,9,84,9],[94,7,96,7],[95,9,96,9],[65,6,68,6],[65,8,68,8],[65,9,66,9],[66,7,68,7],[67,9,68,9],[77,6,80,6],[77,8,80,8],[109,6,112,6],[109,8,112,8],[161,0,164,0],[161,1,164,1],[161,2,164,2],[161,3,164,3],[161,4,164,4],[161,5,164,5],[85,0,88,0],[85,1,88,1],[85,2,88,2],[85,3,88,3],[85,4,88,4],[85,5,88,5],[157,0,160,0],[157,1,160,1],[157,2,160,2],[157,3,160,3],[157,4,160,4],[157,5,160,5],[109,5,112,5],[105,2,108,2],[105,5,108,5],[89,1,92,1],[89,2,92,2],[113,5,116,5],[129,4,132,4],[129,5,132,5],[93,0,96,0],[113,0,116,0],[113,1,116,1],[113,2,116,2],[113,3,116,3],[113,4,116,4],[45,10,48,11],[46,7,48,7],[47,9,48,9],[49,10,52,11],[57,6,60,6],[57,8,60,8],[57,9,58,9],[57,10,60,11],[59,9,60,9],[58,7,60,7],[49,6,52,6],[49,8,52,8],[49,9,50,9],[50,7,52,7],[51,9,52,9],[53,10,56,11],[61,5,64,5],[57,5,60,5],[53,6,56,6],[53,8,56,8],[53,9,54,9],[54,7,56,7],[55,9,56,9],[41,0,44,0],[41,1,44,1],[41,2,44,2],[41,3,44,3],[41,4,44,4],[41,5,44,5],[41,6,44,6],[41,8,44,8],[41,9,42,9],[45,4,48,4],[45,5,48,5],[45,6,48,6],[45,8,48,8],[45,9,46,9],[49,1,52,1],[49,2,52,2],[49,3,52,3],[49,4,52,4],[49,5,52,5],[53,0,56,0],[53,1,56,1],[53,2,56,2],[53,3,56,3],[57,0,60,0],[57,1,60,1],[57,2,60,2],[61,0,64,0],[61,1,64,1],[61,2,64,2],[61,3,64,3],[61,4,64,4],[53,4,56,4],[53,5,56,5],[57,3,60,3],[57,4,60,4],[81,3,84,3],[81,4,84,4],[81,5,84,5],[65,3,68,3],[65,4,68,4],[65,5,68,5],[77,3,80,3],[77,4,80,4],[77,5,80,5],[77,2,80,2],[81,0,84,0],[41,10,44,11],[42,7,44,7],[43,9,44,9],[45,0,48,0],[45,1,48,1],[45,2,48,2],[45,3,48,3],[73,4,76,4],[73,5,76,5],[73,6,76,6],[73,8,76,8],[73,9,74,9],[74,7,76,7],[75,9,76,9],[69,6,72,6],[69,8,72,8],[69,9,70,9],[70,7,72,7],[71,9,72,9],[73,0,76,0],[73,1,76,1],[73,2,76,2],[73,3,76,3],[65,10,68,11],[69,2,72,2],[69,3,72,3],[69,4,72,4],[69,5,72,5],[49,0,52,0],[65,0,68,0],[65,1,68,1],[65,2,68,2],[69,10,72,11],[73,10,76,11],[79,9,80,9],[97,3,100,3],[97,4,100,4],[109,0,112,0],[109,1,112,1],[109,2,112,2],[109,3,112,3],[109,4,112,4],[101,0,104,0],[101,1,104,1],[101,2,104,2],[101,3,104,3],[101,4,104,4],[105,0,108,0],[81,10,84,11],[105,1,108,1],[105,3,108,3],[105,4,108,4],[89,0,92,0],[89,5,92,5],[93,1,96,1],[93,2,96,2],[93,3,96,3],[93,4,96,4],[93,5,96,5],[105,6,108,6],[98,7,100,7],[99,9,100,9],[97,8,100,8],[97,9,98,9],[133,0,136,0],[133,1,136,1],[133,2,136,2],[133,3,136,3],[133,4,136,4],[133,5,136,5],[85,10,88,11],[101,8,104,8],[101,9,102,9],[102,7,104,7],[103,9,104,9],[117,2,120,2],[117,3,120,3],[117,4,120,4],[117,5,120,5],[117,6,120,6],[117,8,120,8],[117,9,118,9],[117,10,120,11],[118,7,120,7],[119,9,120,9],[97,0,100,0],[97,1,100,1],[97,2,100,2],[85,8,88,8],[85,9,86,9],[117,0,120,0],[117,1,120,1],[121,4,124,4],[121,5,124,5],[129,0,132,0],[129,1,132,1],[129,2,132,2],[129,3,132,3],[114,7,116,7],[101,5,104,5],[101,6,104,6],[101,10,104,11],[109,10,112,11],[110,7,112,7],[115,9,116,9],[121,0,124,0],[121,1,124,1],[121,2,124,2],[121,3,124,3],[125,0,128,0],[125,1,128,1],[125,2,128,2],[129,6,132,6],[129,8,132,8],[129,9,130,9],[133,6,136,6],[133,8,136,8],[133,9,134,9],[134,7,136,7],[135,9,136,9],[113,6,116,6],[113,8,116,8],[113,9,114,9],[93,10,96,11],[113,10,116,11],[109,9,110,9],[105,9,106,9],[129,10,132,11],[130,7,132,7],[131,9,132,9],[121,10,124,11],[105,10,108,11],[106,7,108,7],[107,9,108,9],[93,6,96,6],[121,6,124,6],[121,8,124,8],[121,9,122,9],[125,9,126,9],[97,6,100,6],[29,6,32,6],[21,0,24,0],[21,1,24,1],[21,2,24,2],[111,9,112,9],[105,8,108,8],[33,0,36,0],[33,1,36,1],[33,2,36,2],[33,3,36,3],[33,4,36,4],[33,5,36,5],[37,0,40,0],[37,1,40,1],[37,2,40,2],[37,3,40,3],[37,4,40,4],[37,5,40,5],[33,6,36,6],[33,8,36,8],[33,9,34,9],[37,6,40,6],[37,8,40,8],[37,9,38,9],[38,7,40,7],[39,9,40,9],[89,6,92,6],[86,7,88,7],[87,9,88,9],[97,5,100,5],[77,0,80,0],[77,1,80,1],[77,9,78,9],[81,1,84,1],[81,2,84,2],[93,8,96,8],[93,9,94,9],[13,10,16,11],[10,7,12,7],[4,1,4,7],[4,8,6,9],[11,9,12,9],[4,10,6,10],[17,0,20,0],[17,1,20,1],[17,2,20,2],[17,3,20,3],[17,4,20,4],[17,5,20,5],[21,6,24,6],[26,7,28,7],[27,9,28,9],[30,7,32,7],[31,9,32,9],[21,10,24,11],[25,0,28,0],[25,1,28,1],[25,2,28,2],[25,3,28,3],[25,4,28,4],[25,5,28,5],[29,0,32,0],[29,1,32,1],[29,2,32,2],[29,3,32,3],[29,4,32,4],[29,5,32,5],[25,6,28,6],[25,8,28,8],[21,3,24,3],[21,4,24,4],[21,5,24,5],[17,6,20,6],[17,8,20,8],[17,9,18,9],[34,7,36,7],[35,9,36,9],[89,3,92,3],[89,4,92,4],[3,0,3,13],[8,10,8,11],[8,12,8,13],[9,0,12,0],[9,1,12,1],[9,2,12,6],[9,8,12,8],[9,9,10,9],[9,10,12,11],[7,8,7,13],[9,12,10,13],[13,0,16,0],[13,1,16,1],[13,2,16,2],[13,3,16,3],[13,4,16,4],[13,5,16,5],[13,6,16,6],[13,8,16,8],[13,9,14,9],[14,7,16,7],[15,9,16,9],[149,8,152,8],[149,9,150,9],[150,7,152,7],[151,9,152,9],[137,10,140,11],[138,7,140,7],[139,9,140,9],[21,8,24,8],[21,9,22,9],[22,7,24,7],[23,9,24,9],[29,8,32,8],[29,9,30,9],[29,10,32,11],[17,10,20,11],[18,7,20,7],[19,9,20,9],[37,10,40,11],[33,10,36,11],[25,10,28,11],[25,9,26,9],[125,10,128,11],[126,7,128,7],[127,9,128,9],[122,7,124,7],[123,9,124,9],[89,10,92,11],[90,7,92,7],[91,9,92,9],[89,8,92,8],[89,9,90,9],[97,10,100,11],[137,0,140,0],[137,1,140,1],[137,2,140,2],[137,3,140,3],[137,4,140,4],[137,5,140,5],[137,6,140,6],[137,8,140,8],[137,9,138,9],[141,10,144,11],[141,0,144,0],[141,1,144,1],[141,2,144,2],[141,3,144,3],[141,4,144,4],[141,5,144,5],[141,6,144,6],[141,8,144,8],[141,9,142,9],[142,7,144,7],[143,9,144,9],[125,3,128,3],[125,4,128,4],[125,5,128,5],[125,6,128,6],[125,8,128,8],[133,10,136,11],[153,8,156,8],[153,9,154,9],[145,10,148,11],[146,7,148,7],[147,9,148,9],[149,10,152,11],[153,10,156,11],[154,7,156,7],[155,9,156,9],[145,8,148,8],[145,9,146,9],[153,0,156,0],[153,1,156,1],[153,2,156,2],[153,3,156,3],[153,4,156,4],[153,5,156,5],[153,6,156,6],[145,0,148,0],[145,1,148,1],[145,2,148,2],[145,3,148,3],[145,4,148,4],[145,5,148,5],[145,6,148,6],[149,0,152,0],[149,1,152,1],[149,2,152,2],[149,3,152,3],[149,4,152,4],[149,5,152,5],[149,6,152,6],[173,10,176,11],[174,7,176,7],[175,9,176,9],[177,0,180,0],[177,1,180,1],[177,2,180,2],[177,3,180,3],[177,4,180,4],[177,5,180,5],[177,6,180,6],[177,8,180,8],[177,9,178,9],[177,10,180,11],[178,7,180,7],[179,9,180,9],[173,0,176,0],[173,1,176,1],[173,2,176,2],[173,3,176,3],[173,4,176,4],[173,5,176,5],[173,6,176,6],[173,8,176,8],[173,9,174,9],[181,10,184,11],[182,7,184,7],[183,9,184,9],[185,0,188,0],[185,1,188,1],[185,2,188,2],[185,3,188,3],[185,4,188,4],[185,5,188,5],[185,6,188,6],[185,8,188,8],[185,9,186,9],[185,10,188,11],[186,7,188,7],[187,9,188,9],[181,0,184,0],[181,1,184,1],[181,2,184,2],[181,3,184,3],[181,4,184,4],[181,5,184,5],[181,6,184,6],[181,8,184,8],[181,9,182,9],[189,10,192,11],[190,7,192,7],[191,9,192,9],[193,0,196,0],[193,1,196,1],[193,2,196,2],[193,3,196,3],[193,4,196,4],[193,5,196,5],[193,6,196,6],[193,8,196,8],[193,9,194,9],[193,10,196,11],[194,7,196,7],[195,9,196,9],[189,0,192,0],[189,1,192,1],[189,2,192,2],[189,3,192,3],[189,4,192,4],[189,5,192,5],[189,6,192,6],[189,8,192,8],[189,9,190,9],[197,10,200,11],[198,7,200,7],[199,9,200,9],[201,0,204,0],[201,1,204,1],[201,2,204,2],[201,3,204,3],[201,4,204,4],[201,5,204,5],[201,6,204,6],[201,8,204,8],[201,9,202,9],[201,10,204,11],[202,7,204,7],[203,9,204,9],[197,0,200,0],[197,1,200,1],[197,2,200,2],[197,3,200,3],[197,4,200,4],[197,5,200,5],[197,6,200,6],[197,8,200,8],[197,9,198,9],[205,10,208,11],[206,7,208,7],[207,9,208,9],[209,0,212,0],[209,1,212,1],[209,2,212,2],[209,3,212,3],[209,4,212,4],[209,5,212,5],[209,6,212,6],[209,8,212,8],[209,9,210,9],[209,10,212,11],[210,7,212,7],[211,9,212,9],[205,0,208,0],[205,1,208,1],[205,2,208,2],[205,3,208,3],[205,4,208,4],[205,5,208,5],[205,6,208,6],[205,8,208,8],[205,9,206,9],[221,4,224,4],[221,5,224,5],[221,6,224,6],[221,8,224,8],[221,9,222,9],[213,10,216,11],[214,7,216,7],[215,9,216,9],[217,0,220,0],[217,1,220,1],[217,2,220,2],[217,3,220,3],[217,4,220,4],[217,5,220,5],[217,6,220,6],[217,8,220,8],[217,9,218,9],[217,10,220,11],[218,7,220,7],[219,9,220,9],[213,0,216,0],[213,1,216,1],[213,2,216,2],[213,3,216,3],[213,4,216,4],[213,5,216,5],[213,6,216,6],[213,8,216,8],[213,9,214,9],[233,8,236,8],[233,9,234,9],[233,10,236,11],[234,7,236,7],[235,9,236,9],[229,0,232,0],[229,1,232,1],[229,2,232,2],[229,3,232,3],[229,4,232,4],[229,5,232,5],[229,6,232,6],[229,8,232,8],[221,10,224,11],[222,7,224,7],[223,9,224,9],[225,0,228,0],[225,1,228,1],[225,2,228,2],[225,3,228,3],[225,4,228,4],[225,5,228,5],[225,6,228,6],[225,8,228,8],[225,9,226,9],[225,10,228,11],[226,7,228,7],[227,9,228,9],[221,0,224,0],[221,1,224,1],[221,2,224,2],[221,3,224,3],[229,9,230,9],[269,10,272,11],[270,7,272,7],[271,9,272,9],[273,0,276,0],[273,1,276,1],[273,2,276,2],[273,3,276,3],[273,4,276,4],[273,5,276,5],[273,6,276,6],[273,8,276,8],[273,9,274,9],[273,10,276,11],[274,7,276,7],[275,9,276,9],[269,0,272,0],[269,1,272,1],[269,2,272,2],[269,3,272,3],[269,4,272,4],[269,5,272,5],[229,10,232,11],[230,7,232,7],[231,9,232,9],[233,0,236,0],[233,1,236,1],[233,2,236,2],[233,3,236,3],[233,4,236,4],[233,5,236,5],[233,6,236,6],[277,4,280,4],[277,5,280,5],[277,6,280,6],[277,8,280,8],[277,9,278,9],[285,10,288,11],[286,7,288,7],[287,9,288,9],[281,12,282,13],[269,6,272,6],[269,8,272,8],[269,9,270,9],[277,10,280,11],[278,7,280,7],[279,9,280,9],[281,0,284,0],[281,1,284,1],[281,2,284,2],[281,3,284,3],[281,4,284,4],[281,5,284,5],[281,6,284,6],[281,8,284,8],[281,9,282,9],[281,10,284,11],[282,7,284,7],[283,9,284,9],[277,0,280,0],[277,1,280,1],[277,2,280,2],[277,3,280,3],[289,10,292,11],[290,7,292,7],[291,9,292,9],[285,0,288,0],[285,1,288,1],[285,2,288,2],[285,3,288,3],[285,4,288,4],[285,5,288,5],[285,6,288,6],[285,8,288,8],[285,9,286,9],[289,0,292,0],[289,1,292,1],[289,2,292,2],[289,3,292,3],[289,4,292,4],[289,5,292,5],[289,6,292,6],[289,8,292,8],[289,9,290,9],[245,0,248,0],[245,1,248,1],[245,2,248,2],[245,3,248,3],[245,4,248,4],[245,5,248,5],[237,10,240,11],[238,7,240,7],[239,9,240,9],[241,0,244,0],[241,1,244,1],[241,2,244,2],[241,3,244,3],[241,4,244,4],[241,5,244,5],[241,6,244,6],[241,8,244,8],[241,9,242,9],[241,10,244,11],[242,7,244,7],[243,9,244,9],[237,0,240,0],[237,1,240,1],[237,2,240,2],[237,3,240,3],[237,4,240,4],[237,5,240,5],[237,6,240,6],[237,8,240,8],[257,0,260,0],[257,1,260,1],[257,2,260,2],[257,3,260,3],[257,4,260,4],[257,5,260,5],[257,6,260,6],[257,8,260,8],[257,9,258,9],[257,10,260,11],[258,7,260,7],[259,9,260,9],[253,0,256,0],[253,1,256,1],[253,2,256,2],[253,3,256,3],[237,9,238,9],[245,10,248,11],[246,7,248,7],[247,9,248,9],[249,0,252,0],[249,1,252,1],[249,2,252,2],[249,3,252,3],[249,4,252,4],[249,5,252,5],[249,6,252,6],[249,8,252,8],[249,9,250,9],[249,10,252,11],[250,7,252,7],[251,9,252,9],[265,8,268,8],[265,9,266,9],[253,4,256,4],[253,5,256,5],[253,6,256,6],[253,8,256,8],[253,9,254,9],[261,10,264,11],[262,7,264,7],[263,9,264,9],[253,12,254,13],[245,6,248,6],[245,8,248,8],[245,9,246,9],[253,10,256,11],[254,7,256,7],[255,9,256,9],[9,14,12,14],[11,12,12,13],[13,12,14,13],[13,14,16,14],[15,12,16,13],[17,12,18,13],[17,14,20,14],[19,12,20,13],[21,12,22,13],[21,14,24,14],[23,12,24,13],[1,9,1,13],[4,11,6,13],[265,10,268,11],[266,7,268,7],[267,9,268,9],[261,0,264,0],[261,1,264,1],[261,2,264,2],[261,3,264,3],[261,4,264,4],[261,5,264,5],[261,6,264,6],[261,8,264,8],[261,9,262,9],[265,0,268,0],[265,1,268,1],[265,2,268,2],[265,3,268,3],[265,4,268,4],[265,5,268,5],[265,6,268,6],[37,12,38,13],[37,14,40,14],[39,12,40,13],[41,12,42,13],[41,14,44,14],[43,12,44,13],[45,12,46,13],[45,14,48,14],[47,12,48,13],[25,12,26,13],[25,14,28,14],[27,12,28,13],[29,12,30,13],[29,14,32,14],[31,12,32,13],[33,12,34,13],[33,14,36,14],[35,12,36,13],[61,12,62,13],[61,14,64,14],[63,12,64,13],[65,12,66,13],[65,14,68,14],[67,12,68,13],[69,12,70,13],[69,14,72,14],[71,12,72,13],[49,12,50,13],[49,14,52,14],[51,12,52,13],[53,12,54,13],[53,14,56,14],[55,12,56,13],[57,12,58,13],[57,14,60,14],[59,12,60,13],[85,12,86,13],[85,14,88,14],[87,12,88,13],[89,12,90,13],[89,14,92,14],[91,12,92,13],[93,12,94,13],[93,14,96,14],[95,12,96,13],[73,12,74,13],[73,14,76,14],[75,12,76,13],[77,12,78,13],[77,14,80,14],[79,12,80,13],[81,12,82,13],[81,14,84,14],[83,12,84,13],[109,12,110,13],[109,14,112,14],[111,12,112,13],[113,12,114,13],[113,14,116,14],[115,12,116,13],[117,12,118,13],[117,14,120,14],[119,12,120,13],[97,12,98,13],[97,14,100,14],[99,12,100,13],[101,12,102,13],[101,14,104,14],[103,12,104,13],[105,12,106,13],[105,14,108,14],[107,12,108,13],[133,12,134,13],[133,14,136,14],[135,12,136,13],[137,12,138,13],[137,14,140,14],[139,12,140,13],[141,12,142,13],[141,14,144,14],[143,12,144,13],[121,12,122,13],[121,14,124,14],[123,12,124,13],[125,12,126,13],[125,14,128,14],[127,12,128,13],[129,12,130,13],[129,14,132,14],[131,12,132,13],[157,12,158,13],[157,14,160,14],[159,12,160,13],[161,12,162,13],[161,14,164,14],[163,12,164,13],[165,12,166,13],[165,14,168,14],[167,12,168,13],[145,12,146,13],[145,14,148,14],[147,12,148,13],[149,12,150,13],[149,14,152,14],[151,12,152,13],[153,12,154,13],[153,14,156,14],[155,12,156,13],[181,12,182,13],[181,14,184,14],[183,12,184,13],[185,12,186,13],[185,14,188,14],[187,12,188,13],[189,12,190,13],[189,14,192,14],[191,12,192,13],[169,12,170,13],[169,14,172,14],[171,12,172,13],[173,12,174,13],[173,14,176,14],[175,12,176,13],[177,12,178,13],[177,14,180,14],[179,12,180,13],[205,12,206,13],[205,14,208,14]],"merged_total":1071,"flags":["merged_cut"]}
[]
[null,null,null,null,null,null,null,"(会社名)　　",null,{"$f":"請求書!I28","v":""}]
[null,null,null,null,null,null,null,null,null,{"$f":"請求書!X7","v":""},"年",{"$f":"請求書!AI7","v":""},"月","〆分"]
["工事番号・品名内訳明細書"]
[null,null,null,null,null,null,null,null,"今回請求合計",null,"請求額\n(税抜)",{"$f":"IF(SUM(K14:L293)=0,\"\",SUM(K14:L293))","v":""}]
[]
[]
[null,null,null,null,null,null,null,null,"　　　貴社 独自の内訳明細書を添付される場合、チェックを入れて下さい。"]
[null,null,null,null,null,null,null,null,null,null,"消費税率",null,0.1]
["No.","納品日","工事番号",null,null,null,null,"現場名","数量","契約金額\n(税抜)","今回請求額\n(税抜)",null,"消費税額",null,"残額\n(税抜)"]
[null,null,null,null,null,null,null,"工事名(品名)"]
[null,null,null,null,null,null,null,null,null,"請求済金額\n(税抜)",null,null,"請求金額\n(税込)"]
[]
[1,null,null,"-",null,"-",null,null,null,null,null,null,{"$f":"IF(K14=\"\",\"\",INT(K14*10%))","v":""},null,{"$f":"IF(J14=\"\",\"\",J14-J16-K14)","v":""}]
[]
[null,null,null,null,null,null,null,null,null,null,null,null,{"$f":"IF(K14=\"\",\"\",K14+M14)","v":""}]
[]
[2,null,null,"-",null,"-",null,null,null,null,null,null,{"$f":"IF(K18=\"\",\"\",INT(K18*10%))","v":""},null,{"$f":"IF(J18=\"\",\"\",J18-J20-K18)","v":""}]
[]
[null,null,null,null,null,null,null,null,null,null,null,null,{"$f":"IF(K18=\"\",\"\",K18+M18)","v":""}]
[]
[3,null,null,"-",null,"-",null,null,null,null,null,null,{"$f":"IF(K22=\"\",\"\",INT(K22*10%))","v":""},null,{"$f":"IF(J22=\"\",\"\",J22-J24-K22)","v":""}]
[]
[null,null,null,null,null,null,null,null,null,null,null,null,{"$f":"IF(K22=\"\",\"\",K22+M22)","v":""}]
[]
[4,null,null,"-",null,"-",null,null,null,null,null,null,{"$f":"IF(K26=\"\",\"\",INT(K26*10%))","v":""},null,{"$f":"IF(J26=\"\",\"\",J26-J28-K26)","v":""}]
[]
[null,null,null,null,null,null,null,null,null,null,null,null,{"$f":"IF(K26=\"\",\"\",K26+M26)","v":""}]
[]
[5,null,null,"-",null,"-",null,null,null,null,null,null,{"$f":"IF(K30=\"\",\"\",INT(K30*10%))","v":""},null,{"$f":"IF(J30=\"\",\"\",J30-J32-K30)","v":""}]
[]
[null,null,null,null,null,null,null,null,null,null,null,null,{"$f":"IF(K30=\"\",\"\",K30+M30)","v":""}]
[]
[6,null,null,"-",null,"-",null,null,null,null,null,null,{"$f":"IF(K34=\"\",\"\",INT(K34*10%))","v":""},null,{"$f":"IF(J34=\"\",\"\",J34-J36-K34)","v":""}]
[]
[null,null,null,null,null,null,null,null,null,null,null,null,{"$f":"IF(K34=\"\",\"\",K34+M34)","v":""}]
[]
[7,null,null,"-",null,"-",null,null,null,null,null,null,{"$f":"IF(K38=\"\",\"\",INT(K38*10%))","v":""},null,{"$f":"IF(J38=\"\",\"\",J38-J40-K38)","v":""}]
[]
[null,null,null,null,null,null,null,null,null,null,null,null,{"$f":"IF(K38=\"\",\"\",K38+M38)","v":""}]
[]
[8,null,null,"-",null,"-",null,null,null,null,null,null,{"$f":"IF(K42=\"\",\"\",INT(K42*10%))","v":""},null,{"$f":"IF(J42=\"\",\"\",J42-J44-K42)","v":""}]
[]
[null,null,null,null,null,null,null,null,null,null,null,null,{"$f":"IF(K42=\"\",\"\",K42+M42)","v":""}]
[]
[9,null,null,"-",null,"-",null,null,null,null,null,null,{"$f":"IF(K46=\"\",\"\",INT(K46*10%))","v":""},null,{"$f":"IF(J46=\"\",\"\",J46-J48-K46)","v":""}]
[]
[null,null,null,null,null,null,null,null,null,null,null,null,{"$f":"IF(K46=\"\",\"\",K46+M46)","v":""}]
[]
[10,null,null,"-",null,"-",null,null,null,null,null,null,{"$f":"IF(K50=\"\",\"\",INT(K50*10%))","v":""},null,{"$f":"IF(J50=\"\",\"\",J50-J52-K50)","v":""}]
[]
[null,null,null,null,null,null,null,null,null,null,null,null,{"$f":"IF(K50=\"\",\"\",K50+M50)","v":""}]
[]
[11,null,null,"-",null,"-",null,null,null,null,null,null,{"$f":"IF(K54=\"\",\"\",INT(K54*10%))","v":""},null,{"$f":"IF(J54=\"\",\"\",J54-J56-K54)","v":""}]
[]
[null,null,null,null,null,null,null,null,null,null,null,null,{"$f":"IF(K54=\"\",\"\",K54+M54)","v":""}]
[]
[12,null,null,"-",null,"-",null,null,null,null,null,null,{"$f":"IF(K58=\"\",\"\",INT(K58*10%))","v":""},null,{"$f":"IF(J58=\"\",\"\",J58-J60-K58)","v":""}]
[]
[null,null,null,null,null,null,null,null,null,null,null,null,{"$f":"IF(K58=\"\",\"\",K58+M58)","v":""}]
[]
[13,null,null,"-",null,"-",null,null,null,null,null,null,{"$f":"IF(K62=\"\",\"\",INT(K62*10%))","v":""},null,{"$f":"IF(J62=\"\",\"\",J62-J64-K62)","v":""}]
[]
[null,null,null,null,null,null,null,null,null,null,null,null,{"$f":"IF(K62=\"\",\"\",K62+M62)","v":""}]
[]
[14,null,null,"-",null,"-",null,null,null,null,null,null,{"$f":"IF(K66=\"\",\"\",INT(K66*10%))","v":""},null,{"$f":"IF(J66=\"\",\"\",J66-J68-K66)","v":""}]
[]
[null,null,null,null,null,null,null,null,null,null,null,null,{"$f":"IF(K66=\"\",\"\",K66+M66)","v":""}]
[]
[15,null,null,"-",null,"-",null,null,null,null,null,null,{"$f":"IF(K70=\"\",\"\",INT(K70*10%))","v":""},null,{"$f":"IF(J70=\"\",\"\",J70-J72-K70)","v":""}]
[]
[null,null,null,null,null,null,null,null,null,null,null,null,{"$f":"IF(K70=\"\",\"\",K70+M70)","v":""}]
[]
[16,null,null,"-",null,"-",null,null,null,null,null,null,{"$f":"IF(K74=\"\",\"\",INT(K74*10%))","v":""},null,{"$f":"IF(J74=\"\",\"\",J74-J76-K74)","v":""}]
[]
[null,null,null,null,null,null,null,null,null,null,null,null,{"$f":"IF(K74=\"\",\"\",K74+M74)","v":""}]
[]
[17,null,null,"-",null,"-",null,null,null,null,null,null,{"$f":"IF(K78=\"\",\"\",INT(K78*10%))","v":""},null,{"$f":"IF(J78=\"\",\"\",J78-J80-K78)","v":""}]
[]
[null,null,null,null,null,null,null,null,null,null,null,null,{"$f":"IF(K78=\"\",\"\",K78+M78)","v":""}]
[]
[18,null,null,"-",null,"-",null,null,null,null,null,null,{"$f":"IF(K82=\"\",\"\",INT(K82*10%))","v":""},null,{"$f":"IF(J82=\"\",\"\",J82-J84-K82)","v":""}]
[]
[null,null,null,null,null,null,null,null,null,null,null,null,{"$f":"IF(K82=\"\",\"\",K82+M82)","v":""}]
[]
[19,null,null,"-",null,"-",null,null,null,null,null,null,{"$f":"IF(K86=\"\",\"\",INT(K86*10%))","v":""},null,{"$f":"IF(J86=\"\",\"\",J86-J88-K86)","v":""}]
[]
[null,null,null,null,null,null,null,null,null,null,null,null,{"$f":"IF(K86=\"\",\"\",K86+M86)","v":""}]
[]
[20,null,null,"-",null,"-",null,null,null,null,null,null,{"$f":"IF(K90=\"\",\"\",INT(K90*10%))","v":""},null,{"$f":"IF(J90=\"\",\"\",J90-J92-K90)","v":""}]
[]
[null,null,null,null,null,null,null,null,null,null,null,null,{"$f":"IF(K90=\"\",\"\",K90+M90)","v":""}]
[]
[21,null,null,"-",null,"-",null,null,null,null,null,null,{"$f":"IF(K94=\"\",\"\",INT(K94*10%))","v":""},null,{"$f":"IF(J94=\"\",\"\",J94-J96-K94)","v":""}]
[]
[null,null,null,null,null,null,null,null,null,null,null,null,{"$f":"IF(K94=\"\",\"\",K94+M94)","v":""}]
[]
[22,null,null,"-",null,"-",null,null,null,null,null,null,{"$f":"IF(K98=\"\",\"\",INT(K98*10%))","v":""},null,{"$f":"IF(J98=\"\",\"\",J98-J100-K98)","v":""}]
[]
[null,null,null,null,null,null,null,null,null,null,null,null,{"$f":"IF(K98=\"\",\"\",K98+M98)","v":""}]
[]
[23,null,null,"-",null,"-",null,null,null,null,null,null,{"$f":"IF(K102=\"\",\"\",INT(K102*10%))","v":""},null,{"$f":"IF(J102=\"\",\"\",J102-J104-K102)","v":""}]
[]
[null,null,null,null,null,null,null,null,null,null,null,null,{"$f":"IF(K102=\"\",\"\",K102+M102)","v":""}]
[]
[24,null,null,"-",null,"-",null,null,null,null,null,null,{"$f":"IF(K106=\"\",\"\",INT(K106*10%))","v":""},null,{"$f":"IF(J106=\"\",\"\",J106-J108-K106)","v":""}]
[]
[null,null,null,null,null,null,null,null,null,null,null,null,{"$f":"IF(K106=\"\",\"\",K106+M106)","v":""}]
[]
[25,null,null,"-",null,"-",null,null,null,null,null,null,{"$f":"IF(K110=\"\",\"\",INT(K110*10%))","v":""},null,{"$f":"IF(J110=\"\",\"\",J110-J112-K110)","v":""}]
[]
[null,null,null,null,null,null,null,null,null,null,null,null,{"$f":"IF(K110=\"\",\"\",K110+M110)","v":""}]
[]
[26,null,null,"-",null,"-",null,null,null,null,null,null,{"$f":"IF(K114=\"\",\"\",INT(K114*10%))","v":""},null,{"$f":"IF(J114=\"\",\"\",J114-J116-K114)","v":""}]
[]
[null,null,null,null,null,null,null,null,null,null,null,null,{"$f":"IF(K114=\"\",\"\",K114+M114)","v":""}]
[]
[27,null,null,"-",null,"-",null,null,null,null,null,null,{"$f":"IF(K118=\"\",\"\",INT(K118*10%))","v":""},null,{"$f":"IF(J118=\"\",\"\",J118-J120-K118)","v":""}]
[]
[null,null,null,null,null,null,null,null,null,null,null,null,{"$f":"IF(K118=\"\",\"\",K118+M118)","v":""}]
[]
[28,null,null,"-",null,"-",null,null,null,null,null,null,{"$f":"IF(K122=\"\",\"\",INT(K122*10%))","v":""},null,{"$f":"IF(J122=\"\",\"\",J122-J124-K122)","v":""}]
[]
[null,null,null,null,null,null,null,null,null,null,null,null,{"$f":"IF(K122=\"\",\"\",K122+M122)","v":""}]
[]
[29,null,null,"-",null,"-",null,null,null,null,null,null,{"$f":"IF(K126=\"\",\"\",INT(K126*10%))","v":""},null,{"$f":"IF(J126=\"\",\"\",J126-J128-K126)","v":""}]
[]
[null,null,null,null,null,null,null,null,null,null,null,null,{"$f":"IF(K126=\"\",\"\",K126+M126)","v":""}]
[]
[30,null,null,"-",null,"-",null,null,null,null,null,null,{"$f":"IF(K130=\"\",\"\",INT(K130*10%))","v":""},null,{"$f":"IF(J130=\"\",\"\",J130-J132-K130)","v":""}]
[]
[null,null,null,null,null,null,null,null,null,null,null,null,{"$f":"IF(K130=\"\",\"\",K130+M130)","v":""}]
[]
[31,null,null,"-",null,"-",null,null,null,null,null,null,{"$f":"IF(K134=\"\",\"\",INT(K134*10%))","v":""},null,{"$f":"IF(J134=\"\",\"\",J134-J136-K134)","v":""}]
[]
[null,null,null,null,null,null,null,null,null,null,null,null,{"$f":"IF(K134=\"\",\"\",K134+M134)","v":""}]
[]
[32,null,null,"-",null,"-",null,null,null,null,null,null,{"$f":"IF(K138=\"\",\"\",INT(K138*10%))","v":""},null,{"$f":"IF(J138=\"\",\"\",J138-J140-K138)","v":""}]
[]
[null,null,null,null,null,null,null,null,null,null,null,null,{"$f":"IF(K138=\"\",\"\",K138+M138)","v":""}]
[]
[33,null,null,"-",null,"-",null,null,null,null,null,null,{"$f":"IF(K142=\"\",\"\",INT(K142*10%))","v":""},null,{"$f":"IF(J142=\"\",\"\",J142-J144-K142)","v":""}]
[]
[null,null,null,null,null,null,null,null,null,null,null,null,{"$f":"IF(K142=\"\",\"\",K142+M142)","v":""}]
[]
[34,null,null,"-",null,"-",null,null,null,null,null,null,{"$f":"IF(K146=\"\",\"\",INT(K146*10%))","v":""},null,{"$f":"IF(J146=\"\",\"\",J146-J148-K146)","v":""}]
[]
[null,null,null,null,null,null,null,null,null,null,null,null,{"$f":"IF(K146=\"\",\"\",K146+M146)","v":""}]
[]
[35,null,null,"-",null,"-",null,null,null,null,null,null,{"$f":"IF(K150=\"\",\"\",INT(K150*10%))","v":""},null,{"$f":"IF(J150=\"\",\"\",J150-J152-K150)","v":""}]
[]
[null,null,null,null,null,null,null,null,null,null,null,null,{"$f":"IF(K150=\"\",\"\",K150+M150)","v":""}]
[]
[36,null,null,"-",null,"-",null,null,null,null,null,null,{"$f":"IF(K154=\"\",\"\",INT(K154*10%))","v":""},null,{"$f":"IF(J154=\"\",\"\",J154-J156-K154)","v":""}]
[]
[null,null,null,null,null,null,null,null,null,null,null,null,{"$f":"IF(K154=\"\",\"\",K154+M154)","v":""}]
[]
[37,null,null,"-",null,"-",null,null,null,null,null,null,{"$f":"IF(K158=\"\",\"\",INT(K158*10%))","v":""},null,{"$f":"IF(J158=\"\",\"\",J158-J160-K158)","v":""}]
[]
[null,null,null,null,null,null,null,null,null,null,null,null,{"$f":"IF(K158=\"\",\"\",K158+M158)","v":""}]
[]
[38,null,null,"-",null,"-",null,null,null,null,null,null,{"$f":"IF(K162=\"\",\"\",INT(K162*10%))","v":""},null,{"$f":"IF(J162=\"\",\"\",J162-J164-K162)","v":""}]
[]
[null,null,null,null,null,null,null,null,null,null,null,null,{"$f":"IF(K162=\"\",\"\",K162+M162)","v":""}]
[]
[39,null,null,"-",null,"-",null,null,null,null,null,null,{"$f":"IF(K166=\"\",\"\",INT(K166*10%))","v":""},null,{"$f":"IF(J166=\"\",\"\",J166-J168-K166)","v":""}]
[]
[null,null,null,null,null,null,null,null,null,null,null,null,{"$f":"IF(K166=\"\",\"\",K166+M166)","v":""}]
[]
[40,null,null,"-",null,"-",null,null,null,null,null,null,{"$f":"IF(K170=\"\",\"\",INT(K170*10%))","v":""},null,{"$f":"IF(J170=\"\",\"\",J170-J172-K170)","v":""}]
[]
[null,null,null,null,null,null,null,null,null,null,null,null,{"$f":"IF(K170=\"\",\"\",K170+M170)","v":""}]
[]
[41,null,null,"-",null,"-",null,null,null,null,null,null,{"$f":"IF(K174=\"\",\"\",INT(K174*10%))","v":""},null,{"$f":"IF(J174=\"\",\"\",J174-J176-K174)","v":""}]
[]
[null,null,null,null,null,null,null,null,null,null,null,null,{"$f":"IF(K174=\"\",\"\",K174+M174)","v":""}]
[]
[42,null,null,"-",null,"-",null,null,null,null,null,null,{"$f":"IF(K178=\"\",\"\",INT(K178*10%))","v":""},null,{"$f":"IF(J178=\"\",\"\",J178-J180-K178)","v":""}]
[]
[null,null,null,null,null,null,null,null,null,null,null,null,{"$f":"IF(K178=\"\",\"\",K178+M178)","v":""}]
[]
[43,null,null,"-",null,"-",null,null,null,null,null,null,{"$f":"IF(K182=\"\",\"\",INT(K182*10%))","v":""},null,{"$f":"IF(J182=\"\",\"\",J182-J184-K182)","v":""}]
[]
[null,null,null,null,null,null,null,null,null,null,null,null,{"$f":"IF(K182=\"\",\"\",K182+M182)","v":""}]
[]
[44,null,null,"-",null,"-",null,null,null,null,null,null,{"$f":"IF(K186=\"\",\"\",INT(K186*10%))","v":""},null,{"$f":"IF(J186=\"\",\"\",J186-J188-K186)","v":""}]
[]
[null,null,null,null,null,null,null,null,null,null,null,null,{"$f":"IF(K186=\"\",\"\",K186+M186)","v":""}]
[]
[45,null,null,"-",null,"-",null,null,null,null,null,null,{"$f":"IF(K190=\"\",\"\",INT(K190*10%))","v":""},null,{"$f":"IF(J190=\"\",\"\",J190-J192-K190)","v":""}]
[]
[null,null,null,null,null,null,null,null,null,null,null,null,{"$f":"IF(K190=\"\",\"\",K190+M190)","v":""}]
[]
[46,null,null,"-",null,"-",null,null,null,null,null,null,{"$f":"IF(K194=\"\",\"\",INT(K194*10%))","v":""},null,{"$f":"IF(J194=\"\",\"\",J194-J196-K194)","v":""}]
[]
[null,null,null,null,null,null,null,null,null,null,null,null,{"$f":"IF(K194=\"\",\"\",K194+M194)","v":""}]
[]
[47,null,null,"-",null,"-",null,null,null,null,null,null,{"$f":"IF(K198=\"\",\"\",INT(K198*10%))","v":""},null,{"$f":"IF(J198=\"\",\"\",J198-J200-K198)","v":""}]
[]
[null,null,null,null,null,null,null,null,null,null,null,null,{"$f":"IF(K198=\"\",\"\",K198+M198)","v":""}]
[]
[48,null,null,"-",null,"-",null,null,null,null,null,null,{"$f":"IF(K202=\"\",\"\",INT(K202*10%))","v":""},null,{"$f":"IF(J202=\"\",\"\",J202-J204-K202)","v":""}]
[]
[null,null,null,null,null,null,null,null,null,null,null,null,{"$f":"IF(K202=\"\",\"\",K202+M202)","v":""}]
[]
[49,null,null,"-",null,"-",null,null,null,null,null,null,{"$f":"IF(K206=\"\",\"\",INT(K206*10%))","v":""},null,{"$f":"IF(J206=\"\",\"\",J206-J208-K206)","v":""}]
[]
[null,null,null,null,null,null,null,null,null,null,null,null,{"$f":"IF(K206=\"\",\"\",K206+M206)","v":""}]
[]
[50,null,null,"-",null,"-",null,null,null,null,null,null,{"$f":"IF(K210=\"\",\"\",INT(K210*10%))","v":""},null,{"$f":"IF(J210=\"\",\"\",J210-J212-K210)","v":""}]
[]
[null,null,null,null,null,null,null,null,null,null,null,null,{"$f":"IF(K210=\"\",\"\",K210+M210)","v":""}]
[]
[51,null,null,"-",null,"-",null,null,null,null,null,null,{"$f":"IF(K214=\"\",\"\",INT(K214*10%))","v":""},null,{"$f":"IF(J214=\"\",\"\",J214-J216-K214)","v":""}]
[]
[null,null,null,null,null,null,null,null,null,null,null,null,{"$f":"IF(K214=\"\",\"\",K214+M214)","v":""}]
[]
[52,null,null,"-",null,"-",null,null,null,null,null,null,{"$f":"IF(K218=\"\",\"\",INT(K218*10%))","v":""},null,{"$f":"IF(J218=\"\",\"\",J218-J220-K218)","v":""}]
[]
[null,null,null,null,null,null,null,null,null,null,null,null,{"$f":"IF(K218=\"\",\"\",K218+M218)","v":""}]
[]
[53,null,null,"-",null,"-",null,null,null,null,null,null,{"$f":"IF(K222=\"\",\"\",INT(K222*10%))","v":""},null,{"$f":"IF(J222=\"\",\"\",J222-J224-K222)","v":""}]
[]
[null,null,null,null,null,null,null,null,null,null,null,null,{"$f":"IF(K222=\"\",\"\",K222+M222)","v":""}]
[]
[54,null,null,"-",null,"-",null,null,null,null,null,null,{"$f":"IF(K226=\"\",\"\",INT(K226*10%))","v":""},null,{"$f":"IF(J226=\"\",\"\",J226-J228-K226)","v":""}]
[]
[null,null,null,null,null,null,null,null,null,null,null,null,{"$f":"IF(K226=\"\",\"\",K226+M226)","v":""}]
[]
[55,null,null,"-",null,"-",null,null,null,null,null,null,{"$f":"IF(K230=\"\",\"\",INT(K230*10%))","v":""},null,{"$f":"IF(J230=\"\",\"\",J230-J232-K230)","v":""}]
[]
[null,null,null,null,null,null,null,null,null,null,null,null,{"$f":"IF(K230=\"\",\"\",K230+M230)","v":""}]
[]
[56,null,null,"-",null,"-",null,null,null,null,null,null,{"$f":"IF(K234=\"\",\"\",INT(K234*10%))","v":""},null,{"$f":"IF(J234=\"\",\"\",J234-J236-K234)","v":""}]
[]
[null,null,null,null,null,null,null,null,null,null,null,null,{"$f":"IF(K234=\"\",\"\",K234+M234)","v":""}]
[]
[57,null,null,"-",null,"-",null,null,null,null,null,null,{"$f":"IF(K238=\"\",\"\",INT(K238*10%))","v":""},null,{"$f":"IF(J238=\"\",\"\",J238-J240-K238)","v":""}]
[]
[null,null,null,null,null,null,null,null,null,null,null,null,{"$f":"IF(K238=\"\",\"\",K238+M238)","v":""}]
[]
[58,null,null,"-",null,"-",null,null,null,null,null,null,{"$f":"IF(K242=\"\",\"\",INT(K242*10%))","v":""},null,{"$f":"IF(J242=\"\",\"\",J242-J244-K242)","v":""}]
[]
[null,null,null,null,null,null,null,null,null,null,null,null,{"$f":"IF(K242=\"\",\"\",K242+M242)","v":""}]
[]
[59,null,null,"-",null,"-",null,null,null,null,null,null,{"$f":"IF(K246=\"\",\"\",INT(K246*10%))","v":""},null,{"$f":"IF(J246=\"\",\"\",J246-J248-K246)","v":""}]
[]
[null,null,null,null,null,null,null,null,null,null,null,null,{"$f":"IF(K246=\"\",\"\",K246+M246)","v":""}]
[]
[60,null,null,"-",null,"-",null,null,null,null,null,null,{"$f":"IF(K250=\"\",\"\",INT(K250*10%))","v":""},null,{"$f":"IF(J250=\"\",\"\",J250-J252-K250)","v":""}]
[]
[null,null,null,null,null,null,null,null,null,null,null,null,{"$f":"IF(K250=\"\",\"\",K250+M250)","v":""}]
[]
[61,null,null,"-",null,"-",null,null,null,null,null,null,{"$f":"IF(K254=\"\",\"\",INT(K254*10%))","v":""},null,{"$f":"IF(J254=\"\",\"\",J254-J256-K254)","v":""}]
[]
[null,null,null,null,null,null,null,null,null,null,null,null,{"$f":"IF(K254=\"\",\"\",K254+M254)","v":""}]
[]
[62,null,null,"-",null,"-",null,null,null,null,null,null,{"$f":"IF(K258=\"\",\"\",INT(K258*10%))","v":""},null,{"$f":"IF(J258=\"\",\"\",J258-J260-K258)","v":""}]
[]
[null,null,null,null,null,null,null,null,null,null,null,null,{"$f":"IF(K258=\"\",\"\",K258+M258)","v":""}]
[]
[63,null,null,"-",null,"-",null,null,null,null,null,null,{"$f":"IF(K262=\"\",\"\",INT(K262*10%))","v":""},null,{"$f":"IF(J262=\"\",\"\",J262-J264-K262)","v":""}]
[]
[null,null,null,null,null,null,null,null,null,null,null,null,{"$f":"IF(K262=\"\",\"\",K262+M262)","v":""}]
[]
[64,null,null,"-",null,"-",null,null,null,null,null,null,{"$f":"IF(K266=\"\",\"\",INT(K266*10%))","v":""},null,{"$f":"IF(J266=\"\",\"\",J266-J268-K266)","v":""}]
[]
[null,null,null,null,null,null,null,null,null,null,null,null,{"$f":"IF(K266=\"\",\"\",K266+M266)","v":""}]
[]
[65,null,null,"-",null,"-",null,null,null,null,null,null,{"$f":"IF(K270=\"\",\"\",INT(K270*10%))","v":""},null,{"$f":"IF(J270=\"\",\"\",J270-J272-K270)","v":""}]
[]
[null,null,null,null,null,null,null,null,null,null,null,null,{"$f":"IF(K270=\"\",\"\",K270+M270)","v":""}]
[]
[66,null,null,"-",null,"-",null,null,null,null,null,null,{"$f":"IF(K274=\"\",\"\",INT(K274*10%))","v":""},null,{"$f":"IF(J274=\"\",\"\",J274-J276-K274)","v":""}]
[]
[null,null,null,null,null,null,null,null,null,null,null,null,{"$f":"IF(K274=\"\",\"\",K274+M274)","v":""}]
[]
[67,null,null,"-",null,"-",null,null,null,null,null,null,{"$f":"IF(K278=\"\",\"\",INT(K278*10%))","v":""},null,{"$f":"IF(J278=\"\",\"\",J278-J280-K278)","v":""}]
[]
[null,null,null,null,null,null,null,null,null,null,null,null,{"$f":"IF(K278=\"\",\"\",K278+M278)","v":""}]
[]
[68,null,null,"-",null,"-",null,null,null,null,null,null,{"$f":"IF(K282=\"\",\"\",INT(K282*10%))","v":""},null,{"$f":"IF(J282=\"\",\"\",J282-J284-K282)","v":""}]
[]
[null,null,null,null,null,null,null,null,null,null,null,null,{"$f":"IF(K282=\"\",\"\",K282+M282)","v":""}]
[]
[69,null,null,"-",null,"-",null,null,null,null,null,null,{"$f":"IF(K286=\"\",\"\",INT(K286*10%))","v":""},null,{"$f":"IF(J286=\"\",\"\",J286-J288-K286)","v":""}]
[]
[null,null,null,null,null,null,null,null,null,null,null,null,{"$f":"IF(K286=\"\",\"\",K286+M286)","v":""}]
[]
[70,null,null,"-",null,"-",null,null,null,null,null,null,{"$f":"IF(K290=\"\",\"\",INT(K290*10%))","v":""},null,{"$f":"IF(J290=\"\",\"\",J290-J292-K290)","v":""}]
[]
[null,null,null,null,null,null,null,null,null,null,null,null,{"$f":"IF(K290=\"\",\"\",K290+M290)","v":""}]

{"sheet":"Sheet1","index":5,"n_rows":5,"n_cols":3,"rows_kept":5,"cut":false,"hidden":true,"merged":[]}
[false,false,false]
[]
[]
["課税10%"]
["非課税･不課税",0,0]